BEGIN:VCALENDAR
VERSION:2.0
PRODID:-//Team Roping Brasil - ECPv6.15.20//NONSGML v1.0//EN
CALSCALE:GREGORIAN
METHOD:PUBLISH
X-WR-CALNAME:Team Roping Brasil
X-ORIGINAL-URL:https://teamroping.com.br
X-WR-CALDESC:Eventos para Team Roping Brasil
REFRESH-INTERVAL;VALUE=DURATION:PT1H
X-Robots-Tag:noindex
X-PUBLISHED-TTL:PT1H
BEGIN:VTIMEZONE
TZID:America/Sao_Paulo
BEGIN:STANDARD
TZOFFSETFROM:-0200
TZOFFSETTO:-0300
TZNAME:-03
DTSTART:20180218T020000
END:STANDARD
BEGIN:DAYLIGHT
TZOFFSETFROM:-0300
TZOFFSETTO:-0200
TZNAME:-02
DTSTART:20181104T030000
END:DAYLIGHT
BEGIN:STANDARD
TZOFFSETFROM:-0200
TZOFFSETTO:-0300
TZNAME:-03
DTSTART:20190217T020000
END:STANDARD
END:VTIMEZONE
BEGIN:VEVENT
DTSTART;VALUE=DATE:20200306
DTEND;VALUE=DATE:20200308
DTSTAMP:20260424T024331
CREATED:20200111T165305Z
LAST-MODIFIED:20200203T114336Z
UID:32569-1583452800-1583625599@teamroping.com.br
SUMMARY:6ª Prova TA Quato de Milha
DESCRIPTION:
URL:https://teamroping.com.br/evento/6a-prova-ta-quato-de-milha/
CATEGORIES:Provas
ATTACH;FMTTYPE=image/jpeg:https://teamroping.com.br/wp-content/uploads/81609747_161680981762023_3301511100126163946_n.jpg
END:VEVENT
BEGIN:VEVENT
DTSTART;VALUE=DATE:20200229
DTEND;VALUE=DATE:20200302
DTSTAMP:20260424T024331
CREATED:20200121T110344Z
LAST-MODIFIED:20200121T110344Z
UID:32941-1582934400-1583107199@teamroping.com.br
SUMMARY:Clinica de Laço em Dupla - Aparecida do Taboado
DESCRIPTION:Fernando Varoni & Ricardo Bassetto \nAparecida do Taboado – MS \ncontato : \n(18) 99751-6959\n(67) 99965-2087
URL:https://teamroping.com.br/evento/clinica-de-laco-em-dupla-aparecida-do-taboado/
CATEGORIES:Cursos
ATTACH;FMTTYPE=image/jpeg:https://teamroping.com.br/wp-content/uploads/83633546_1481564158669786_8693675238338203036_n.jpg
END:VEVENT
BEGIN:VEVENT
DTSTART;VALUE=DATE:20200229
DTEND;VALUE=DATE:20200301
DTSTAMP:20260424T024331
CREATED:20200226T004037Z
LAST-MODIFIED:20200226T004037Z
UID:34312-1582934400-1583020799@teamroping.com.br
SUMMARY:Prova de laço Rancho Cardia
DESCRIPTION:dia 29 de Fevereiro neste Sábado Prova de Laço Rancho Cardia na cidade de Marialva – Pr maos informações tratar con Júnior Cardia pelo telefone (44) 99803 – 0007
URL:https://teamroping.com.br/evento/prova-de-laco-rancho-cardia/
CATEGORIES:Provas
ATTACH;FMTTYPE=image/jpeg:https://teamroping.com.br/wp-content/uploads/85228762_512440889690607_85332156275080246_n.jpg
END:VEVENT
BEGIN:VEVENT
DTSTART;VALUE=DATE:20200216
DTEND;VALUE=DATE:20200217
DTSTAMP:20260424T024331
CREATED:20200212T135315Z
LAST-MODIFIED:20200212T135315Z
UID:33833-1581811200-1581897599@teamroping.com.br
SUMMARY:Prova entre Amigos
DESCRIPTION:
URL:https://teamroping.com.br/evento/prova-entre-amigos/
CATEGORIES:Provas
ATTACH;FMTTYPE=image/jpeg:https://teamroping.com.br/wp-content/uploads/Sem-Título-2-12.jpg
END:VEVENT
BEGIN:VEVENT
DTSTART;VALUE=DATE:20200214
DTEND;VALUE=DATE:20200216
DTSTAMP:20260424T024331
CREATED:20200126T131944Z
LAST-MODIFIED:20200126T131944Z
UID:33172-1581638400-1581811199@teamroping.com.br
SUMMARY:CPLD - PRO AM - Rope With The Stars
DESCRIPTION:Você amador e tem um sonho de correr com um profissional\, está é sua oportunidade.  \n  \n14 e 15 de Fevereiro \nLondrina – PR
URL:https://teamroping.com.br/evento/cpld-pro-am-rope-with-the-stars/
CATEGORIES:Provas
ATTACH;FMTTYPE=image/jpeg:https://teamroping.com.br/wp-content/uploads/82232626_475505659724735_845995206781813015_n.jpg
END:VEVENT
BEGIN:VEVENT
DTSTART;VALUE=DATE:20200208
DTEND;VALUE=DATE:20200210
DTSTAMP:20260424T024331
CREATED:20200121T110040Z
LAST-MODIFIED:20200121T110040Z
UID:32938-1581120000-1581292799@teamroping.com.br
SUMMARY:Clinica de Laço em Dupla - Araçatuba - SP
DESCRIPTION:Fernando Varoni & Ricardo Bassetto \nAraçatuba – SP \ncontato : \n(18) 99751-6959\n(67) 99965-2087
URL:https://teamroping.com.br/evento/clinica-de-laco-em-dupla-aracatuba-sp/
CATEGORIES:Cursos
ATTACH;FMTTYPE=image/jpeg:https://teamroping.com.br/wp-content/uploads/79856652_465253857727785_3978786775062893176_n.jpg
END:VEVENT
BEGIN:VEVENT
DTSTART;VALUE=DATE:20200201
DTEND;VALUE=DATE:20200202
DTSTAMP:20260424T024331
CREATED:20200127T212310Z
LAST-MODIFIED:20200127T212327Z
UID:33229-1580515200-1580601599@teamroping.com.br
SUMMARY:3º Team Peba- GO
DESCRIPTION:Team Peba \nMatrinchã – GO
URL:https://teamroping.com.br/evento/3o-team-roping-peba-go/
CATEGORIES:Provas
ATTACH;FMTTYPE=image/png:https://teamroping.com.br/wp-content/uploads/Sem-Título-2-3.png
END:VEVENT
BEGIN:VEVENT
DTSTART;VALUE=DATE:20200201
DTEND;VALUE=DATE:20200202
DTSTAMP:20260424T024331
CREATED:20200122T115710Z
LAST-MODIFIED:20200122T115710Z
UID:33000-1580515200-1580601599@teamroping.com.br
SUMMARY:1ª e 2ª etapas da Prova de Laço em Dupla Haras Faz. São Paulo & Haras Sulera 2020
DESCRIPTION:Bálsamo – SP
URL:https://teamroping.com.br/evento/1a-e-2a-etapas-da-prova-de-laco-em-dupla-haras-faz-sao-paulo-haras-sulera-2020/
CATEGORIES:Provas
ATTACH;FMTTYPE=image/jpeg:https://teamroping.com.br/wp-content/uploads/82304638_742700526238952_6935139072682412038_n.jpg
END:VEVENT
BEGIN:VEVENT
DTSTART;VALUE=DATE:20200201
DTEND;VALUE=DATE:20200202
DTSTAMP:20260424T024331
CREATED:20200104T002944Z
LAST-MODIFIED:20200104T002944Z
UID:32200-1580515200-1580601599@teamroping.com.br
SUMMARY:1º Jackpot Team Roping Anderson e Caio Proença
DESCRIPTION:01/02/2020 \nRancho Fido Dio \nNova Esperança – PR
URL:https://teamroping.com.br/evento/1o-jackpot-team-roping-anderson-e-caio-proenca/
CATEGORIES:Provas
ATTACH;FMTTYPE=image/jpeg:https://teamroping.com.br/wp-content/uploads/Sem-Título-1-12.jpg
END:VEVENT
BEGIN:VEVENT
DTSTART;VALUE=DATE:20200131
DTEND;VALUE=DATE:20200201
DTSTAMP:20260424T024331
CREATED:20191204T191641Z
LAST-MODIFIED:20191204T191641Z
UID:30246-1580428800-1580515199@teamroping.com.br
SUMMARY:Rancho Esperança
DESCRIPTION:
URL:https://teamroping.com.br/evento/rancho-esperanca/
CATEGORIES:Provas
ATTACH;FMTTYPE=image/jpeg:https://teamroping.com.br/wp-content/uploads/74808931_151501099492671_6891909935894443486_n.jpg
END:VEVENT
BEGIN:VEVENT
DTSTART;VALUE=DATE:20200125
DTEND;VALUE=DATE:20200127
DTSTAMP:20260424T024331
CREATED:20191211T093818Z
LAST-MODIFIED:20191211T093818Z
UID:30865-1579910400-1580083199@teamroping.com.br
SUMMARY:3º Team Roping Estância KML
DESCRIPTION:Com mais uma prova incentivando a participação das mulheres!! Prova que irá acontecer nos dias 25 e 26 de Janeiro de 2020\, na cidade de Moreira Sales no Paraná\, conta com uma premiação diferenciada chamando a atenção de todos os competidores do #Team Roping.\nA prova incentiva a participação das mulheres\, descontando o valor das inscrições no valor do prêmio\, caso a mulher venha a ganhar.\nPortanto mulheres\, não percam a oportunidade de estarem participando da 3ª Prova de Team Roping da Estância KML em Moreira Sales – PR. 🐴🐂🔝🌵 \n  \nCALENDÁRIO DE PROVAS
URL:https://teamroping.com.br/evento/3o-team-roping-estancia-kml/
CATEGORIES:Provas
ATTACH;FMTTYPE=image/jpeg:https://teamroping.com.br/wp-content/uploads/69646401_151912799430563_4912948803161128259_n.jpg
END:VEVENT
BEGIN:VEVENT
DTSTART;VALUE=DATE:20200124
DTEND;VALUE=DATE:20200126
DTSTAMP:20260424T024331
CREATED:20191217T011436Z
LAST-MODIFIED:20191217T011436Z
UID:31292-1579824000-1579996799@teamroping.com.br
SUMMARY:Curso de Laço - Cabeça
DESCRIPTION:24 e 25 de Janeiro\n⠀\ncom Rodrigo Paoliello\nCentro de Treinamento RP\nem Rubiácea SP\n⠀\n✅ PISTA COBERTA\n✅ CERTIFICADOS\n✅ DICAS EXCLUSIVAS\n✅ TÉCNICAS ATUALIZADAS\n✅ APERFEIÇOAMENTO DO LAÇADOR JUNTAMENTE COM SEU ANIMAL\n⠀\nVAGAS LIMITADAS
URL:https://teamroping.com.br/evento/curso-de-laco-cabeca/
CATEGORIES:Cursos
ATTACH;FMTTYPE=image/jpeg:https://teamroping.com.br/wp-content/uploads/cabeça.jpg
END:VEVENT
BEGIN:VEVENT
DTSTART;VALUE=DATE:20200118
DTEND;VALUE=DATE:20200119
DTSTAMP:20260424T024331
CREATED:20191218T125802Z
LAST-MODIFIED:20191218T125802Z
UID:31370-1579305600-1579391999@teamroping.com.br
SUMMARY:Team Roping Examar
DESCRIPTION:
URL:https://teamroping.com.br/evento/team-roping-examar-2/
CATEGORIES:Provas
ATTACH;FMTTYPE=image/jpeg:https://teamroping.com.br/wp-content/uploads/76761661_2377843522341311_7215310711194598562_n.jpg
END:VEVENT
BEGIN:VEVENT
DTSTART;VALUE=DATE:20200117
DTEND;VALUE=DATE:20200119
DTSTAMP:20260424T024331
CREATED:20191217T011157Z
LAST-MODIFIED:20191217T011157Z
UID:31289-1579219200-1579391999@teamroping.com.br
SUMMARY:Curso de Laço - Pé
DESCRIPTION:17 e 18 de janeiro⠀com Rafael PaolielloCentro de Treinamento RPem Rubiácea SP ⠀✅ PISTA COBERTA✅ CERTIFICADOS✅ DICAS EXCLUSIVAS✅ TÉCNICAS ATUALIZADAS✅ APERFEIÇOAMENTO DO LAÇADOR JUNTAMENTE COM SEU ANIMAL⠀VAGAS LIMITADAS
URL:https://teamroping.com.br/evento/curso-de-laco-pe/
CATEGORIES:Cursos
ATTACH;FMTTYPE=image/jpeg:https://teamroping.com.br/wp-content/uploads/pé.jpg
END:VEVENT
BEGIN:VEVENT
DTSTART;VALUE=DATE:20200117
DTEND;VALUE=DATE:20200118
DTSTAMP:20260424T024331
CREATED:20200106T181901Z
LAST-MODIFIED:20200106T181901Z
UID:32321-1579219200-1579305599@teamroping.com.br
SUMMARY:1ª Etapa CGLD - Campeonato Sul Goiano de laço em dupla
DESCRIPTION:
URL:https://teamroping.com.br/evento/1a-etapa-cgld-campeonato-sul-goiano-de-laco-em-dupla/
CATEGORIES:Provas
ATTACH;FMTTYPE=image/jpeg:https://teamroping.com.br/wp-content/uploads/80485681_108755297186547_5687959647605574281_n.jpg
END:VEVENT
BEGIN:VEVENT
DTSTART;VALUE=DATE:20191221
DTEND;VALUE=DATE:20191222
DTSTAMP:20260424T024331
CREATED:20190926T111306Z
LAST-MODIFIED:20190926T111444Z
UID:26105-1576886400-1576972799@teamroping.com.br
SUMMARY:1ª Prova Rancho Ferraz
DESCRIPTION:Mariluz – PR \n21/12/2019 \nContato – Rudi (44) 9 9991-9381  /  Renato (44) 9 9818-4123
URL:https://teamroping.com.br/evento/1a-prova-rancho-ferraz/
LOCATION:mariluz\, Mariluz\, Paraná\, Brasil
CATEGORIES:Provas
ATTACH;FMTTYPE=image/jpeg:https://teamroping.com.br/wp-content/uploads/70364731_3055052074521425_5533184167351870353_n.jpg
END:VEVENT
BEGIN:VEVENT
DTSTART;VALUE=DATE:20191214
DTEND;VALUE=DATE:20191216
DTSTAMP:20260424T024331
CREATED:20191124T153924Z
LAST-MODIFIED:20191124T153924Z
UID:29810-1576281600-1576454399@teamroping.com.br
SUMMARY:Clinica de Laço em Dupla
DESCRIPTION:
URL:https://teamroping.com.br/evento/clinica-de-laco-em-dupla/
CATEGORIES:Cursos
ATTACH;FMTTYPE=image/jpeg:https://teamroping.com.br/wp-content/uploads/73495472_154501479113224_212522465742708700_n.jpg
END:VEVENT
BEGIN:VEVENT
DTSTART;VALUE=DATE:20191212
DTEND;VALUE=DATE:20191216
DTSTAMP:20260424T024331
CREATED:20191204T192031Z
LAST-MODIFIED:20191204T192031Z
UID:30249-1576108800-1576454399@teamroping.com.br
SUMMARY:Campeonato CRTR - Ricardinho de Team Roping
DESCRIPTION:Alto Garças – MT
URL:https://teamroping.com.br/evento/campeonato-crtr-ricardinho-de-team-roping/
CATEGORIES:Provas
ATTACH;FMTTYPE=image/jpeg:https://teamroping.com.br/wp-content/uploads/75239245_582435782582665_6744544901956805584_n.jpg
END:VEVENT
BEGIN:VEVENT
DTSTART;VALUE=DATE:20191129
DTEND;VALUE=DATE:20191201
DTSTAMP:20260424T024331
CREATED:20191029T120029Z
LAST-MODIFIED:20191029T120029Z
UID:28365-1574985600-1575158399@teamroping.com.br
SUMMARY:Copa Canaã Team Roping
DESCRIPTION:
URL:https://teamroping.com.br/evento/copa-canaa-team-roping/
CATEGORIES:Provas
ATTACH;FMTTYPE=image/jpeg:https://teamroping.com.br/wp-content/uploads/67729363_396191147698987_7557657456658407815_n.jpg
END:VEVENT
BEGIN:VEVENT
DTSTART;VALUE=DATE:20191123
DTEND;VALUE=DATE:20191124
DTSTAMP:20260424T024331
CREATED:20191028T163303Z
LAST-MODIFIED:20191028T163303Z
UID:28327-1574467200-1574553599@teamroping.com.br
SUMMARY:Circuito HTB 2019 - 7ª etapa
DESCRIPTION:
URL:https://teamroping.com.br/evento/circuito-htb-2019-7a-etapa/
CATEGORIES:Provas
ATTACH;FMTTYPE=image/jpeg:https://teamroping.com.br/wp-content/uploads/75291144_104761957563861_1165083672107536456_n.jpg
END:VEVENT
BEGIN:VEVENT
DTSTART;VALUE=DATE:20191115
DTEND;VALUE=DATE:20191118
DTSTAMP:20260424T024331
CREATED:20190829T193922Z
LAST-MODIFIED:20190829T193922Z
UID:24214-1573776000-1574035199@teamroping.com.br
SUMMARY:CCLD 2019 - 1ª Copa Cacoal de Laço em Dupla
DESCRIPTION:Cacoal – RO
URL:https://teamroping.com.br/evento/ccld-2019-1a-copa-cacoal-de-laco-em-dupla/
CATEGORIES:Provas
ATTACH;FMTTYPE=image/jpeg:https://teamroping.com.br/wp-content/uploads/66818824_811142535947893_47253682579310716_n.jpg
END:VEVENT
BEGIN:VEVENT
DTSTART;VALUE=DATE:20191114
DTEND;VALUE=DATE:20191118
DTSTAMP:20260424T024331
CREATED:20191009T133302Z
LAST-MODIFIED:20191009T133302Z
UID:27096-1573689600-1574035199@teamroping.com.br
SUMMARY:Olimpia Rodeo Music - Team Roping
DESCRIPTION:
URL:https://teamroping.com.br/evento/olimpia-rodeo-music-team-roping/
CATEGORIES:Provas
ATTACH;FMTTYPE=image/jpeg:https://teamroping.com.br/wp-content/uploads/olimpia.jpg
END:VEVENT
BEGIN:VEVENT
DTSTART;VALUE=DATE:20191114
DTEND;VALUE=DATE:20191118
DTSTAMP:20260424T024331
CREATED:20190114T115318Z
LAST-MODIFIED:20190114T115318Z
UID:10329-1573689600-1574035199@teamroping.com.br
SUMMARY:CPTR 2019 - 4ª Etapa + Mega Final
DESCRIPTION:
URL:https://teamroping.com.br/evento/cptr-2019-4a-etapa-mega-final/
ATTACH;FMTTYPE=image/jpeg:https://teamroping.com.br/wp-content/uploads/RPHV6743-1.jpg
END:VEVENT
BEGIN:VEVENT
DTSTART;VALUE=DATE:20191109
DTEND;VALUE=DATE:20191110
DTSTAMP:20260424T024331
CREATED:20191028T163654Z
LAST-MODIFIED:20191028T163654Z
UID:28330-1573257600-1573343999@teamroping.com.br
SUMMARY:Circuito C.A.L.D 2019 - 4ª etapa - Mega Final
DESCRIPTION:
URL:https://teamroping.com.br/evento/circuito-c-a-l-d-2019-4a-etapa-mega-final/
CATEGORIES:Provas
ATTACH;FMTTYPE=image/jpeg:https://teamroping.com.br/wp-content/uploads/75467922_458013294832869_789279276664282759_n.jpg
END:VEVENT
BEGIN:VEVENT
DTSTART;VALUE=DATE:20191101
DTEND;VALUE=DATE:20191104
DTSTAMP:20260424T024331
CREATED:20191028T125317Z
LAST-MODIFIED:20191028T125317Z
UID:28317-1572566400-1572825599@teamroping.com.br
SUMMARY:Revolution Team Roping - 4ª etapa - Mega Final
DESCRIPTION:
URL:https://teamroping.com.br/evento/revolution-team-roping-4a-etapa-mega-final/
CATEGORIES:Provas
ATTACH;FMTTYPE=image/jpeg:https://teamroping.com.br/wp-content/uploads/72149944_523735258204656_6257466328494152376_n.jpg
END:VEVENT
BEGIN:VEVENT
DTSTART;VALUE=DATE:20191025
DTEND;VALUE=DATE:20191027
DTSTAMP:20260424T024331
CREATED:20190829T193342Z
LAST-MODIFIED:20190829T193342Z
UID:24211-1571961600-1572134399@teamroping.com.br
SUMMARY:7ª Copa Team Roping - Rancho Eldorado
DESCRIPTION:Aragoiânia – GO
URL:https://teamroping.com.br/evento/7a-copa-team-roping-rancho-eldorado/
CATEGORIES:Provas
ATTACH;FMTTYPE=image/jpeg:https://teamroping.com.br/wp-content/uploads/67298644_663749204118771_5098150320795796089_n.jpg
END:VEVENT
BEGIN:VEVENT
DTSTART;VALUE=DATE:20191012
DTEND;VALUE=DATE:20191013
DTSTAMP:20260424T024331
CREATED:20190818T002310Z
LAST-MODIFIED:20190818T002310Z
UID:23508-1570838400-1570924799@teamroping.com.br
SUMMARY:2ª Prova Amigos do Davi
DESCRIPTION:Local: Cruzeiro do Oeste – PR
URL:https://teamroping.com.br/evento/2a-prova-amigos-do-davi/
CATEGORIES:Provas
ATTACH;FMTTYPE=image/jpeg:https://teamroping.com.br/wp-content/uploads/GSBY7183.jpg
END:VEVENT
BEGIN:VEVENT
DTSTART;VALUE=DATE:20191004
DTEND;VALUE=DATE:20191007
DTSTAMP:20260424T024331
CREATED:20190114T171552Z
LAST-MODIFIED:20190930T175819Z
UID:10343-1570147200-1570406399@teamroping.com.br
SUMMARY:Team Roping dos Campeões - 7ª edição
DESCRIPTION:
URL:https://teamroping.com.br/evento/team-roping-dos-campeoes-7a-edicao/
CATEGORIES:Provas
ATTACH;FMTTYPE=image/jpeg:https://teamroping.com.br/wp-content/uploads/70398580_2414348015328951_3899230165085065045_n.jpg
END:VEVENT
BEGIN:VEVENT
DTSTART;VALUE=DATE:20190928
DTEND;VALUE=DATE:20190929
DTSTAMP:20260424T024331
CREATED:20190812T225443Z
LAST-MODIFIED:20190812T225443Z
UID:23208-1569628800-1569715199@teamroping.com.br
SUMMARY:3º Team Roping - Expo Alta
DESCRIPTION:Rancho Brasil Central \nCachoeira Alta – GO
URL:https://teamroping.com.br/evento/3o-team-roping-expo-alta/
CATEGORIES:Provas
ATTACH;FMTTYPE=image/jpeg:https://teamroping.com.br/wp-content/uploads/TYAF8088.jpg
END:VEVENT
BEGIN:VEVENT
DTSTART;VALUE=DATE:20190926
DTEND;VALUE=DATE:20190929
DTSTAMP:20260424T024331
CREATED:20190114T171812Z
LAST-MODIFIED:20190114T171825Z
UID:10346-1569456000-1569715199@teamroping.com.br
SUMMARY:11ª Prova Marco Aurélio Mella
DESCRIPTION:
URL:https://teamroping.com.br/evento/11a-prova-marcao-aurelio-mella/
CATEGORIES:Provas
ATTACH;FMTTYPE=image/jpeg:https://teamroping.com.br/wp-content/uploads/47693538_558715131298031_723769272228860587_n.jpg
END:VEVENT
END:VCALENDAR