BEGIN:VCALENDAR
VERSION:2.0
PRODID:-//Team Roping Brasil - ECPv6.15.20//NONSGML v1.0//EN
CALSCALE:GREGORIAN
METHOD:PUBLISH
X-ORIGINAL-URL:https://teamroping.com.br
X-WR-CALDESC:Eventos para Team Roping Brasil
REFRESH-INTERVAL;VALUE=DURATION:PT1H
X-Robots-Tag:noindex
X-PUBLISHED-TTL:PT1H
BEGIN:VTIMEZONE
TZID:America/Sao_Paulo
BEGIN:STANDARD
TZOFFSETFROM:-0200
TZOFFSETTO:-0300
TZNAME:-03
DTSTART:20180218T020000
END:STANDARD
BEGIN:DAYLIGHT
TZOFFSETFROM:-0300
TZOFFSETTO:-0200
TZNAME:-02
DTSTART:20181104T030000
END:DAYLIGHT
BEGIN:STANDARD
TZOFFSETFROM:-0200
TZOFFSETTO:-0300
TZNAME:-03
DTSTART:20190217T020000
END:STANDARD
END:VTIMEZONE
BEGIN:VEVENT
DTSTART;VALUE=DATE:20190803
DTEND;VALUE=DATE:20190805
DTSTAMP:20260424T084358
CREATED:20190420T213518Z
LAST-MODIFIED:20190420T213518Z
UID:11330-1564790400-1564963199@teamroping.com.br
SUMMARY:3ª edição Caio Proença e Rancho tropa 80 na pista coberta em Araruna no Paraná
DESCRIPTION:
URL:https://teamroping.com.br/evento/3a-edicao-caio-proenca-e-rancho-tropa-80-na-pista-coberta-em-araruna-no-parana/
CATEGORIES:Provas
ATTACH;FMTTYPE=image/jpeg:https://teamroping.com.br/wp-content/uploads/56553778_2156628707784053_5307031581552097153_n.jpg
END:VEVENT
BEGIN:VEVENT
DTSTART;VALUE=DATE:20190803
DTEND;VALUE=DATE:20190804
DTSTAMP:20260424T084358
CREATED:20190226T004006Z
LAST-MODIFIED:20190226T004006Z
UID:10743-1564790400-1564876799@teamroping.com.br
SUMMARY:3ª Prova  Caio Proença e Rancho tropa 80
DESCRIPTION:Araruna – PR
URL:https://teamroping.com.br/evento/3a-prova-caio-proenca-e-rancho-tropa-80/
CATEGORIES:Provas
ATTACH;FMTTYPE=image/jpeg:https://teamroping.com.br/wp-content/uploads/51545982_249162285995449_7639621230978348479_n.jpg
END:VEVENT
BEGIN:VEVENT
DTSTART;VALUE=DATE:20190803
DTEND;VALUE=DATE:20190804
DTSTAMP:20260424T084358
CREATED:20190131T195006Z
LAST-MODIFIED:20190131T195006Z
UID:10548-1564790400-1564876799@teamroping.com.br
SUMMARY:Mega Team Roping
DESCRIPTION:Haras Brasil Central \nRio Verde – GO
URL:https://teamroping.com.br/evento/mega-team-roping-2/
CATEGORIES:Provas
ATTACH;FMTTYPE=image/jpeg:https://teamroping.com.br/wp-content/uploads/50070541_310653036252751_2129580039145841752_n.jpg
END:VEVENT
BEGIN:VEVENT
DTSTART;VALUE=DATE:20190802
DTEND;VALUE=DATE:20190804
DTSTAMP:20260424T084358
CREATED:20190629T184018Z
LAST-MODIFIED:20190629T184018Z
UID:20434-1564704000-1564876799@teamroping.com.br
SUMMARY:3ª Etapa Revolution Team Roping
DESCRIPTION:3ª Etapa\ndias 02 e 03 de agosto\nRancho Quarto de Milha\nPresidente Prudente SP
URL:https://teamroping.com.br/evento/3a-etapa-revolution-team-roping/
CATEGORIES:Provas
ATTACH;FMTTYPE=image/jpeg:https://teamroping.com.br/wp-content/uploads/64377461_469351810545506_5662906894176327765_n.jpg
END:VEVENT
BEGIN:VEVENT
DTSTART;VALUE=DATE:20190727
DTEND;VALUE=DATE:20190728
DTSTAMP:20260424T084358
CREATED:20190711T132803Z
LAST-MODIFIED:20190711T132803Z
UID:21132-1564185600-1564271999@teamroping.com.br
SUMMARY:2º bolão Rancho Coqueiros - Soma # 4\, 5
DESCRIPTION:Local – Rancho Coqueiros \nCachoeira Alta – GO
URL:https://teamroping.com.br/evento/2o-bolao-rancho-coqueiros-soma-4-5/
CATEGORIES:Provas
ATTACH;FMTTYPE=image/jpeg:https://teamroping.com.br/wp-content/uploads/STQA3115.jpg
END:VEVENT
BEGIN:VEVENT
DTSTART;VALUE=DATE:20190726
DTEND;VALUE=DATE:20190729
DTSTAMP:20260424T084358
CREATED:20190114T115154Z
LAST-MODIFIED:20190114T115154Z
UID:10327-1564099200-1564358399@teamroping.com.br
SUMMARY:CPTR 2019 - 3ª Etapa
DESCRIPTION:
URL:https://teamroping.com.br/evento/cptr-2019-3a-etapa/
ATTACH;FMTTYPE=image/jpeg:https://teamroping.com.br/wp-content/uploads/RPHV6743-1.jpg
END:VEVENT
BEGIN:VEVENT
DTSTART;VALUE=DATE:20190714
DTEND;VALUE=DATE:20190715
DTSTAMP:20260424T084358
CREATED:20190222T112454Z
LAST-MODIFIED:20190222T112454Z
UID:10722-1563062400-1563148799@teamroping.com.br
SUMMARY:56ª Festa do Peão - Paulo de Faria
DESCRIPTION:
URL:https://teamroping.com.br/evento/56a-festa-do-peao-paulo-de-faria/
CATEGORIES:Provas
ATTACH;FMTTYPE=image/jpeg:https://teamroping.com.br/wp-content/uploads/51238114_625035701263917_799339806159775825_n.jpg
END:VEVENT
BEGIN:VEVENT
DTSTART;VALUE=DATE:20190713
DTEND;VALUE=DATE:20190715
DTSTAMP:20260424T084358
CREATED:20190611T112817Z
LAST-MODIFIED:20190611T112817Z
UID:13281-1562976000-1563148799@teamroping.com.br
SUMMARY:Team Roping - Precision e Sociedade Rural de Toledo
DESCRIPTION:
URL:https://teamroping.com.br/evento/team-roping-precision-e-sociedade-rural-de-toledo/
CATEGORIES:Provas
ATTACH;FMTTYPE=image/jpeg:https://teamroping.com.br/wp-content/uploads/61730011_776357526093480_7138034506825789073_n.jpg
END:VEVENT
BEGIN:VEVENT
DTSTART;VALUE=DATE:20190712
DTEND;VALUE=DATE:20190715
DTSTAMP:20260424T084358
CREATED:20190613T164635Z
LAST-MODIFIED:20190613T164635Z
UID:14381-1562889600-1563148799@teamroping.com.br
SUMMARY:Inauguração Rancho WS
DESCRIPTION:Pereiras – SP
URL:https://teamroping.com.br/evento/inauguracao-rancho-ws/
CATEGORIES:Provas
ATTACH;FMTTYPE=image/jpeg:https://teamroping.com.br/wp-content/uploads/61311497_445401069583687_1718198138415029179_n.jpg
END:VEVENT
BEGIN:VEVENT
DTSTART;VALUE=DATE:20190705
DTEND;VALUE=DATE:20190708
DTSTAMP:20260424T084358
CREATED:20190613T164255Z
LAST-MODIFIED:20190613T164255Z
UID:14363-1562284800-1562543999@teamroping.com.br
SUMMARY:13º Team Roping - Haras São João
DESCRIPTION:Monte Aprazível – SP
URL:https://teamroping.com.br/evento/13o-team-roping-haras-sao-joao/
CATEGORIES:Provas
ATTACH;FMTTYPE=image/jpeg:https://teamroping.com.br/wp-content/uploads/61618400_464017237682554_1293655986506121608_n.jpg
END:VEVENT
BEGIN:VEVENT
DTSTART;VALUE=DATE:20190629
DTEND;VALUE=DATE:20190630
DTSTAMP:20260424T084358
CREATED:20190523T140057Z
LAST-MODIFIED:20190523T140057Z
UID:11922-1561766400-1561852799@teamroping.com.br
SUMMARY:1ª Copa Barão de Team Roping
DESCRIPTION:Rancho 2E – Iporá – GO
URL:https://teamroping.com.br/evento/1a-copa-barao-de-team-roping/
CATEGORIES:Provas
ATTACH;FMTTYPE=image/jpeg:https://teamroping.com.br/wp-content/uploads/copa_barao_em_ipora_goias_brasil-1.jpg
END:VEVENT
BEGIN:VEVENT
DTSTART;VALUE=DATE:20190622
DTEND;VALUE=DATE:20190623
DTSTAMP:20260424T084358
CREATED:20190228T133541Z
LAST-MODIFIED:20190228T133541Z
UID:10765-1561161600-1561247999@teamroping.com.br
SUMMARY:3ª Edição -Team Roping - Rancho do Ipê
DESCRIPTION:Mirassol – SP
URL:https://teamroping.com.br/evento/3a-edicao-team-roping-rancho-do-ipe/
CATEGORIES:Provas
ATTACH;FMTTYPE=image/jpeg:https://teamroping.com.br/wp-content/uploads/WVBH0787.jpg
END:VEVENT
BEGIN:VEVENT
DTSTART;VALUE=DATE:20190614
DTEND;VALUE=DATE:20190616
DTSTAMP:20260424T084358
CREATED:20190606T191214Z
LAST-MODIFIED:20190606T191214Z
UID:12963-1560470400-1560643199@teamroping.com.br
SUMMARY:4ª etapa circuito amigos do laço
DESCRIPTION:
URL:https://teamroping.com.br/evento/4a-etapa-circuito-amigos-do-laco/
CATEGORIES:Provas
ATTACH;FMTTYPE=image/jpeg:https://teamroping.com.br/wp-content/uploads/GWWK8188.jpg
END:VEVENT
BEGIN:VEVENT
DTSTART;VALUE=DATE:20190607
DTEND;VALUE=DATE:20190609
DTSTAMP:20260424T084358
CREATED:20190115T121757Z
LAST-MODIFIED:20190115T121757Z
UID:10363-1559865600-1560038399@teamroping.com.br
SUMMARY:Cactus Team Roping 2019
DESCRIPTION:Rancho JS \nTrindade – GO
URL:https://teamroping.com.br/evento/cactus-team-roping-2019/
CATEGORIES:Provas
ATTACH;FMTTYPE=image/jpeg:https://teamroping.com.br/wp-content/uploads/44230029_141388036834708_273592686195507566_n.jpg
END:VEVENT
BEGIN:VEVENT
DTSTART;VALUE=DATE:20190601
DTEND;VALUE=DATE:20190602
DTSTAMP:20260424T084358
CREATED:20190217T122826Z
LAST-MODIFIED:20190415T113145Z
UID:10653-1559347200-1559433599@teamroping.com.br
SUMMARY:2º Team Roping do Amor
DESCRIPTION:
URL:https://teamroping.com.br/evento/2o-team-roping-do-amor-2/
CATEGORIES:Provas
ATTACH;FMTTYPE=image/jpeg:https://teamroping.com.br/wp-content/uploads/MCES2658.jpg
END:VEVENT
BEGIN:VEVENT
DTSTART;VALUE=DATE:20190531
DTEND;VALUE=DATE:20190602
DTSTAMP:20260424T084358
CREATED:20190111T234651Z
LAST-MODIFIED:20190111T234651Z
UID:10308-1559260800-1559433599@teamroping.com.br
SUMMARY:2º Team Roping do Amor
DESCRIPTION:
URL:https://teamroping.com.br/evento/2o-team-roping-do-amor/
CATEGORIES:Provas
ATTACH;FMTTYPE=image/jpeg:https://teamroping.com.br/wp-content/uploads/SESU9596.jpg
END:VEVENT
BEGIN:VEVENT
DTSTART;VALUE=DATE:20190525
DTEND;VALUE=DATE:20190526
DTSTAMP:20260424T084358
CREATED:20190517T174926Z
LAST-MODIFIED:20190517T174926Z
UID:11672-1558742400-1558828799@teamroping.com.br
SUMMARY:1º encontro dos amigos do laço do conesul
DESCRIPTION:
URL:https://teamroping.com.br/evento/1o-encontro-dos-amigos-do-laco-do-conesul/
CATEGORIES:Provas
ATTACH;FMTTYPE=image/jpeg:https://teamroping.com.br/wp-content/uploads/59133172_181330286139641_3617923855300167002_n.jpg
END:VEVENT
BEGIN:VEVENT
DTSTART;VALUE=DATE:20190524
DTEND;VALUE=DATE:20190602
DTSTAMP:20260424T084358
CREATED:20190311T135822Z
LAST-MODIFIED:20190311T135822Z
UID:10875-1558656000-1559433599@teamroping.com.br
SUMMARY:7ª Semana do Cavalo
DESCRIPTION:
URL:https://teamroping.com.br/evento/7a-semana-do-cavalo/
CATEGORIES:Provas
ATTACH;FMTTYPE=image/jpeg:https://teamroping.com.br/wp-content/uploads/52486770_185864555724350_3321301452318285008_n.jpg
END:VEVENT
BEGIN:VEVENT
DTSTART;VALUE=DATE:20190524
DTEND;VALUE=DATE:20190527
DTSTAMP:20260424T084358
CREATED:20190114T115039Z
LAST-MODIFIED:20190114T115039Z
UID:10324-1558656000-1558915199@teamroping.com.br
SUMMARY:CPTR 2019 - 2ª Etapa
DESCRIPTION:
URL:https://teamroping.com.br/evento/cptr-2019-2a-etapa/
ATTACH;FMTTYPE=image/jpeg:https://teamroping.com.br/wp-content/uploads/RPHV6743-1.jpg
END:VEVENT
BEGIN:VEVENT
DTSTART;VALUE=DATE:20190518
DTEND;VALUE=DATE:20190519
DTSTAMP:20260424T084358
CREATED:20190517T113010Z
LAST-MODIFIED:20190517T113010Z
UID:11664-1558137600-1558223999@teamroping.com.br
SUMMARY:Team Roping Festival - Taça Mato Grosso
DESCRIPTION:Sinop – MT \nRancho BR
URL:https://teamroping.com.br/evento/team-roping-festival-taca-mato-grosso/
CATEGORIES:Provas
ATTACH;FMTTYPE=image/jpeg:https://teamroping.com.br/wp-content/uploads/59888262_2316566895266802_4575554013519159083_n.jpg
END:VEVENT
BEGIN:VEVENT
DTSTART;VALUE=DATE:20190518
DTEND;VALUE=DATE:20190519
DTSTAMP:20260424T084358
CREATED:20190504T170243Z
LAST-MODIFIED:20190504T170243Z
UID:11484-1558137600-1558223999@teamroping.com.br
SUMMARY:Team Roping Examar
DESCRIPTION:
URL:https://teamroping.com.br/evento/team-roping-examar/
CATEGORIES:Provas
ATTACH;FMTTYPE=image/jpeg:https://teamroping.com.br/wp-content/uploads/57811459_2338848666390996_5298361918131880728_n.jpg
END:VEVENT
BEGIN:VEVENT
DTSTART;VALUE=DATE:20190517
DTEND;VALUE=DATE:20190520
DTSTAMP:20260424T084358
CREATED:20190504T160549Z
LAST-MODIFIED:20190504T160549Z
UID:11481-1558051200-1558310399@teamroping.com.br
SUMMARY:2° TEAM ROPING – Evento Beneficente em prol do Hospital do Câncer
DESCRIPTION:
URL:https://teamroping.com.br/evento/2-team-roping-evento-beneficente-em-prol-do-hospital-do-cancer/
CATEGORIES:Provas
ATTACH;FMTTYPE=image/jpeg:https://teamroping.com.br/wp-content/uploads/photo-2019-04-30-08-56-09.jpg
END:VEVENT
BEGIN:VEVENT
DTSTART;VALUE=DATE:20190511
DTEND;VALUE=DATE:20190513
DTSTAMP:20260424T084358
CREATED:20190114T171110Z
LAST-MODIFIED:20190114T171110Z
UID:10339-1557532800-1557705599@teamroping.com.br
SUMMARY:Mega Prova La Victoria Ranch
DESCRIPTION:Primavera do Leste – MT
URL:https://teamroping.com.br/evento/mega-prova-la-victoria-ranch/
CATEGORIES:Provas
ATTACH;FMTTYPE=image/jpeg:https://teamroping.com.br/wp-content/uploads/49480683_345528746041136_7617487780503049248_n.jpg
END:VEVENT
BEGIN:VEVENT
DTSTART;VALUE=DATE:20190509
DTEND;VALUE=DATE:20190512
DTSTAMP:20260424T084358
CREATED:20190506T184358Z
LAST-MODIFIED:20190506T184358Z
UID:11508-1557360000-1557619199@teamroping.com.br
SUMMARY:13ª prova de laço em dupla -Rancho Jales Graciano
DESCRIPTION:
URL:https://teamroping.com.br/evento/13a-prova-de-laco-em-dupla-rancho-jales-graciano/
CATEGORIES:Provas
ATTACH;FMTTYPE=image/jpeg:https://teamroping.com.br/wp-content/uploads/58629986_641542612987616_1103756283577149690_n.jpg
END:VEVENT
BEGIN:VEVENT
DTSTART;TZID=America/Sao_Paulo:20190503T080000
DTEND;TZID=America/Sao_Paulo:20190505T120000
DTSTAMP:20260424T084358
CREATED:20181114T154511Z
LAST-MODIFIED:20181114T154511Z
UID:9505-1556870400-1557057600@teamroping.com.br
SUMMARY:19ª Prova do Issao
DESCRIPTION:
URL:https://teamroping.com.br/evento/19a-prova-do-issao/
ATTACH;FMTTYPE=image/jpeg:https://teamroping.com.br/wp-content/uploads/43536314_297429847760680_8010199618847965549_n.jpg
END:VEVENT
BEGIN:VEVENT
DTSTART;VALUE=DATE:20190427
DTEND;VALUE=DATE:20190428
DTSTAMP:20260424T084358
CREATED:20190322T185604Z
LAST-MODIFIED:20190322T185604Z
UID:11015-1556323200-1556409599@teamroping.com.br
SUMMARY:2B Ranch
DESCRIPTION:
URL:https://teamroping.com.br/evento/2b-ranch/
CATEGORIES:Provas
ATTACH;FMTTYPE=image/jpeg:https://teamroping.com.br/wp-content/uploads/54446865_370726330191606_2399537458981755649_n.jpg
END:VEVENT
BEGIN:VEVENT
DTSTART;VALUE=DATE:20190427
DTEND;VALUE=DATE:20190428
DTSTAMP:20260424T084358
CREATED:20190115T122046Z
LAST-MODIFIED:20190115T122046Z
UID:10367-1556323200-1556409599@teamroping.com.br
SUMMARY:Rancho Colorado
DESCRIPTION:Goiânia – GO
URL:https://teamroping.com.br/evento/rancho-colorado/
CATEGORIES:Provas
ATTACH;FMTTYPE=image/jpeg:https://teamroping.com.br/wp-content/uploads/49485942_383236412429982_3290384787996010573_n.jpg
END:VEVENT
BEGIN:VEVENT
DTSTART;VALUE=DATE:20190426
DTEND;VALUE=DATE:20190427
DTSTAMP:20260424T084358
CREATED:20190304T152508Z
LAST-MODIFIED:20190304T152508Z
UID:10805-1556236800-1556323199@teamroping.com.br
SUMMARY:7° Edição Team Roping BT RANCH.
DESCRIPTION:
URL:https://teamroping.com.br/evento/7-edicao-team-roping-bt-ranch/
CATEGORIES:Provas
ATTACH;FMTTYPE=image/jpeg:https://teamroping.com.br/wp-content/uploads/52014114_2184915715058402_242118841577957272_n.jpg
END:VEVENT
BEGIN:VEVENT
DTSTART;VALUE=DATE:20190419
DTEND;VALUE=DATE:20190421
DTSTAMP:20260424T084358
CREATED:20190115T121347Z
LAST-MODIFIED:20190115T121347Z
UID:10359-1555632000-1555804799@teamroping.com.br
SUMMARY:5ª Prova Rancho JR
DESCRIPTION:Edéia – GO
URL:https://teamroping.com.br/evento/5a-prova-rancho-jr/
CATEGORIES:Provas
ATTACH;FMTTYPE=image/jpeg:https://teamroping.com.br/wp-content/uploads/49484214_293156614881367_1270703644331599897_n.jpg
END:VEVENT
BEGIN:VEVENT
DTSTART;VALUE=DATE:20190413
DTEND;VALUE=DATE:20190414
DTSTAMP:20260424T084358
CREATED:20190314T114408Z
LAST-MODIFIED:20190314T114408Z
UID:10890-1555113600-1555199999@teamroping.com.br
SUMMARY:CTRC - Circuito Team Roping Colorado - 1ª etapa
DESCRIPTION:Colorado – PR
URL:https://teamroping.com.br/evento/ctrc-circuito-team-roping-colorado-1a-etapa/
CATEGORIES:Provas
ATTACH;FMTTYPE=image/jpeg:https://teamroping.com.br/wp-content/uploads/54277643_407685256708473_1947404632635745420_n.jpg
END:VEVENT
END:VCALENDAR