BEGIN:VCALENDAR
VERSION:2.0
PRODID:-//Team Roping Brasil - ECPv6.15.20//NONSGML v1.0//EN
CALSCALE:GREGORIAN
METHOD:PUBLISH
X-ORIGINAL-URL:https://teamroping.com.br
X-WR-CALDESC:Eventos para Team Roping Brasil
REFRESH-INTERVAL;VALUE=DURATION:PT1H
X-Robots-Tag:noindex
X-PUBLISHED-TTL:PT1H
BEGIN:VTIMEZONE
TZID:America/Sao_Paulo
BEGIN:STANDARD
TZOFFSETFROM:-0200
TZOFFSETTO:-0300
TZNAME:-03
DTSTART:20170219T020000
END:STANDARD
BEGIN:DAYLIGHT
TZOFFSETFROM:-0300
TZOFFSETTO:-0200
TZNAME:-02
DTSTART:20171015T030000
END:DAYLIGHT
BEGIN:STANDARD
TZOFFSETFROM:-0200
TZOFFSETTO:-0300
TZNAME:-03
DTSTART:20180218T020000
END:STANDARD
BEGIN:DAYLIGHT
TZOFFSETFROM:-0300
TZOFFSETTO:-0200
TZNAME:-02
DTSTART:20181104T030000
END:DAYLIGHT
BEGIN:STANDARD
TZOFFSETFROM:-0200
TZOFFSETTO:-0300
TZNAME:-03
DTSTART:20190217T020000
END:STANDARD
END:VTIMEZONE
BEGIN:VEVENT
DTSTART;TZID=America/Sao_Paulo:20181208T080000
DTEND;TZID=America/Sao_Paulo:20181208T120000
DTSTAMP:20260424T160448
CREATED:20181114T154117Z
LAST-MODIFIED:20181114T154117Z
UID:9502-1544256000-1544270400@teamroping.com.br
SUMMARY:8 de dezembro - Rancho eldorado
DESCRIPTION:
URL:https://teamroping.com.br/evento/8-de-dezembro-rancho-eldorado/
ATTACH;FMTTYPE=image/jpeg:https://teamroping.com.br/wp-content/uploads/43284768_498679900640678_6287447174120847605_n.jpg
END:VEVENT
BEGIN:VEVENT
DTSTART;TZID=America/Sao_Paulo:20181207T190000
DTEND;TZID=America/Sao_Paulo:20181207T193000
DTSTAMP:20260424T160448
CREATED:20181205T132641Z
LAST-MODIFIED:20181205T132641Z
UID:9826-1544209200-1544211000@teamroping.com.br
SUMMARY:Haras Twin Brothers - Match Point de Laço em Dupla
DESCRIPTION:
URL:https://teamroping.com.br/evento/haras-twin-brothers-match-point-de-laco-em-dupla/
CATEGORIES:Provas
ATTACH;FMTTYPE=image/jpeg:https://teamroping.com.br/wp-content/uploads/44769459_346215985929382_2008851869281587978_n.jpg
END:VEVENT
BEGIN:VEVENT
DTSTART;VALUE=DATE:20181207
DTEND;VALUE=DATE:20181209
DTSTAMP:20260424T160448
CREATED:20181205T132019Z
LAST-MODIFIED:20181205T132019Z
UID:9822-1544140800-1544313599@teamroping.com.br
SUMMARY:Copa L2 Team Roping
DESCRIPTION:Nova Andradina – MS
URL:https://teamroping.com.br/evento/copa-l2-team-roping/
CATEGORIES:Provas
ATTACH;FMTTYPE=image/jpeg:https://teamroping.com.br/wp-content/uploads/46241216_1783631245074627_5900051270990404729_n.jpg
END:VEVENT
BEGIN:VEVENT
DTSTART;TZID=America/Sao_Paulo:20181130T170000
DTEND;TZID=America/Sao_Paulo:20181201T000000
DTSTAMP:20260424T160448
CREATED:20181128T153146Z
LAST-MODIFIED:20181128T153146Z
UID:9706-1543597200-1543622400@teamroping.com.br
SUMMARY:Mega final COPA MONTANA
DESCRIPTION:à partir das 17 horas.\nLocal: Rancho São Francisco.\nBR 262 KM 33\nTrês Lagoas – MS
URL:https://teamroping.com.br/evento/mega-final-copa-montana/
CATEGORIES:Provas
ATTACH;FMTTYPE=image/jpeg:https://teamroping.com.br/wp-content/uploads/44822353_2196306337356763_6670693092110457606_n.jpg
END:VEVENT
BEGIN:VEVENT
DTSTART;TZID=America/Sao_Paulo:20181130T130000
DTEND;TZID=America/Sao_Paulo:20181202T120000
DTSTAMP:20260424T160448
CREATED:20181130T155300Z
LAST-MODIFIED:20181130T155300Z
UID:9758-1543582800-1543752000@teamroping.com.br
SUMMARY:Haras Natália - Campeonato 2018 - Mega Final
DESCRIPTION:Cuiabá – Mato Grosso
URL:https://teamroping.com.br/evento/haras-natalia-campeonato-2018-mega-final/
ATTACH;FMTTYPE=image/jpeg:https://teamroping.com.br/wp-content/uploads/46105377_2734908993401149_4081652746055545755_n.jpg
END:VEVENT
BEGIN:VEVENT
DTSTART;VALUE=DATE:20181123
DTEND;VALUE=DATE:20181126
DTSTAMP:20260424T160448
CREATED:20171227T144814Z
LAST-MODIFIED:20180905T222907Z
UID:1127-1542931200-1543190399@teamroping.com.br
SUMMARY:MEGA FINAL CPLD + 4ª ETAPA
DESCRIPTION:
URL:https://teamroping.com.br/evento/mega-final-cpld-4a-etapa/
LOCATION:Londrina\, Londrina\, Londrina\, Paraná\, Brasil
CATEGORIES:Provas
END:VEVENT
BEGIN:VEVENT
DTSTART;TZID=America/Sao_Paulo:20181116T000000
DTEND;TZID=America/Sao_Paulo:20181118T235959
DTSTAMP:20260424T160448
CREATED:20181020T120440Z
LAST-MODIFIED:20181020T120440Z
UID:9244-1542326400-1542585599@teamroping.com.br
SUMMARY:1ª Circuito e Laço do Vale do Mucuri - 6ª Etapa
DESCRIPTION: 
URL:https://teamroping.com.br/evento/1a-circuito-e-laco-do-vale-do-mucuri-6a-etapa/
CATEGORIES:Provas
ATTACH;FMTTYPE=image/jpeg:https://teamroping.com.br/wp-content/uploads/IMG_0261.jpg
END:VEVENT
BEGIN:VEVENT
DTSTART;VALUE=DATE:20181108
DTEND;VALUE=DATE:20181112
DTSTAMP:20260424T160448
CREATED:20180216T001054Z
LAST-MODIFIED:20180216T001054Z
UID:1146-1541635200-1541980799@teamroping.com.br
SUMMARY:CPTR 2018 4ª ETAPA
DESCRIPTION:CPTR 2018 4ª ETAPA. Regulamento em Breve
URL:https://teamroping.com.br/evento/cptr-1a-etapa-4/
LOCATION:Balsamo\, Balsamo\, São Paulo\, Brazil
CATEGORIES:Provas
END:VEVENT
BEGIN:VEVENT
DTSTART;VALUE=DATE:20181013
DTEND;VALUE=DATE:20181015
DTSTAMP:20260424T160448
CREATED:20180618T163358Z
LAST-MODIFIED:20180807T113132Z
UID:3392-1539388800-1539561599@teamroping.com.br
SUMMARY:1º Two Friends Team Roping
DESCRIPTION:
URL:https://teamroping.com.br/evento/1o-two-friends-team-roping/
LOCATION:cambé\, cambé\, cambé\, Paraná\, Brasil
CATEGORIES:Provas
ATTACH;FMTTYPE=image/jpeg:https://teamroping.com.br/wp-content/uploads/WDQP4017.jpg
END:VEVENT
BEGIN:VEVENT
DTSTART;VALUE=DATE:20180928
DTEND;VALUE=DATE:20181001
DTSTAMP:20260424T160448
CREATED:20171227T144705Z
LAST-MODIFIED:20171227T144705Z
UID:1125-1538092800-1538351999@teamroping.com.br
SUMMARY:CPLD 3ª ETAPA
DESCRIPTION:
URL:https://teamroping.com.br/evento/cpld-3a-etapa/
LOCATION:Londrina\, Londrina\, Londrina\, Paraná\, Brasil
CATEGORIES:Provas
END:VEVENT
BEGIN:VEVENT
DTSTART;VALUE=DATE:20180901
DTEND;VALUE=DATE:20180902
DTSTAMP:20260424T160448
CREATED:20180807T114401Z
LAST-MODIFIED:20180807T114401Z
UID:8699-1535760000-1535846399@teamroping.com.br
SUMMARY:1º BOLÃO TEAM ROPING  C.D.L CACHUGOLD
DESCRIPTION:
URL:https://teamroping.com.br/evento/1o-bolao-team-roping-c-d-l-cachugold/
LOCATION:CACHOEIRA DOURADA\, CACHOEIRA DOURADA\, MINAS GERAIS\, Brasil
CATEGORIES:Provas
ATTACH;FMTTYPE=image/jpeg:https://teamroping.com.br/wp-content/uploads/37892285_2024560190897170_6819809068434063360_n.jpg
END:VEVENT
BEGIN:VEVENT
DTSTART;VALUE=DATE:20180817
DTEND;VALUE=DATE:20180820
DTSTAMP:20260424T160448
CREATED:20171227T143820Z
LAST-MODIFIED:20171227T143820Z
UID:1111-1534464000-1534723199@teamroping.com.br
SUMMARY:7ª Prova dos Campeões
DESCRIPTION:
URL:https://teamroping.com.br/evento/7a-prova-dos-campeoes-team-roping-brasil/
LOCATION:Regente Feijó\, Regente Feijó\, Regente Feijó\, São Paulo\, Brasil
CATEGORIES:Provas
END:VEVENT
BEGIN:VEVENT
DTSTART;TZID=America/Sao_Paulo:20180811T130000
DTEND;TZID=America/Sao_Paulo:20180811T235900
DTSTAMP:20260424T160448
CREATED:20180613T205449Z
LAST-MODIFIED:20180613T205449Z
UID:3376-1533992400-1534031940@teamroping.com.br
SUMMARY:3ª etapa Team Roping - Haras Rancho Brasil
DESCRIPTION:
URL:https://teamroping.com.br/evento/3a-etapa-team-roping-haras-rancho-brasil/
LOCATION:piraquara\, Haras Rancho Brasil\, Piraquara\, Paraná\, Brasil
CATEGORIES:Provas
ATTACH;FMTTYPE=image/jpeg:https://teamroping.com.br/wp-content/uploads/image1.jpeg
END:VEVENT
BEGIN:VEVENT
DTSTART;VALUE=DATE:20180810
DTEND;VALUE=DATE:20180813
DTSTAMP:20260424T160448
CREATED:20180705T223733Z
LAST-MODIFIED:20180705T223733Z
UID:3486-1533859200-1534118399@teamroping.com.br
SUMMARY:Monte Alegre Team Roping Show
DESCRIPTION:
URL:https://teamroping.com.br/evento/mega-final-cpld-4a-etapa-3/
LOCATION:Monte Alegre\, Brasil
CATEGORIES:Provas
ATTACH;FMTTYPE=image/jpeg:https://teamroping.com.br/wp-content/uploads/36161106_196981317818876_6394357785710034944_n.jpg
END:VEVENT
BEGIN:VEVENT
DTSTART;VALUE=DATE:20180804
DTEND;VALUE=DATE:20180805
DTSTAMP:20260424T160448
CREATED:20180610T122951Z
LAST-MODIFIED:20180610T122951Z
UID:3358-1533340800-1533427199@teamroping.com.br
SUMMARY:1ª prova de laço - Rancho Tropa 80
DESCRIPTION:
URL:https://teamroping.com.br/evento/1a-prova-de-laco-rancho-tropa-80/
LOCATION:Araruna\, Araruna\, Paraná\, Brasil
CATEGORIES:Provas
ATTACH;FMTTYPE=image/jpeg:https://teamroping.com.br/wp-content/uploads/31988146_101604777392230_1057683817453584384_n.jpg
END:VEVENT
BEGIN:VEVENT
DTSTART;VALUE=DATE:20180804
DTEND;VALUE=DATE:20180805
DTSTAMP:20260424T160448
CREATED:20171024T004315Z
LAST-MODIFIED:20171024T004315Z
UID:957-1533340800-1533427199@teamroping.com.br
SUMMARY:Mega Team Roping Brasil Central
DESCRIPTION:
URL:https://teamroping.com.br/evento/mega-team-roping-brasil-central/
LOCATION:Rio Verde\, Rio Verde\, Rio Verde\, Goiás\, Brasil
END:VEVENT
BEGIN:VEVENT
DTSTART;VALUE=DATE:20180803
DTEND;VALUE=DATE:20180805
DTSTAMP:20260424T160448
CREATED:20180710T122932Z
LAST-MODIFIED:20180710T122932Z
UID:3513-1533254400-1533427199@teamroping.com.br
SUMMARY:MEGA TEAM ROPING
DESCRIPTION:
URL:https://teamroping.com.br/evento/mega-team-roping/
LOCATION:Londrina\, Londrina\, Londrina\, Paraná\, Brasil
CATEGORIES:Provas
ATTACH;FMTTYPE=image/jpeg:https://teamroping.com.br/wp-content/uploads/36515775_1767582836658361_1178846872098308096_n.jpg
END:VEVENT
BEGIN:VEVENT
DTSTART;VALUE=DATE:20180802
DTEND;VALUE=DATE:20180805
DTSTAMP:20260424T160448
CREATED:20171227T143555Z
LAST-MODIFIED:20171227T143555Z
UID:1109-1533168000-1533427199@teamroping.com.br
SUMMARY:Marco Aurélio 2018
DESCRIPTION:
URL:https://teamroping.com.br/evento/marco-aurelio-2018-team-roping-brasil/
LOCATION:Nova Andradina\, Nova Andradina\, Mato Grosso do Sul\, Brasil
CATEGORIES:Provas
END:VEVENT
BEGIN:VEVENT
DTSTART;VALUE=DATE:20180727
DTEND;VALUE=DATE:20180730
DTSTAMP:20260424T160448
CREATED:20180705T223210Z
LAST-MODIFIED:20180705T223210Z
UID:3477-1532649600-1532908799@teamroping.com.br
SUMMARY:2ª Etapa CPTR - 2018
DESCRIPTION:
URL:https://teamroping.com.br/evento/2a-etapa-cptr-2018/
LOCATION:Balsamo\, Balsamo\, São Paulo\, Brazil
CATEGORIES:Provas
ATTACH;FMTTYPE=image/jpeg:https://teamroping.com.br/wp-content/uploads/36085574_909404725928343_4494257317587451904_n.jpg
END:VEVENT
BEGIN:VEVENT
DTSTART;VALUE=DATE:20180727
DTEND;VALUE=DATE:20180730
DTSTAMP:20260424T160448
CREATED:20180216T000909Z
LAST-MODIFIED:20180216T000909Z
UID:1147-1532649600-1532908799@teamroping.com.br
SUMMARY:CPTR 2018 3ª ETAPA
DESCRIPTION:CPTR 2018 3ª ETAPA. Regulamento em Breve
URL:https://teamroping.com.br/evento/cptr-1a-etapa-3/
LOCATION:Balsamo\, Balsamo\, São Paulo\, Brazil
CATEGORIES:Provas
END:VEVENT
BEGIN:VEVENT
DTSTART;VALUE=DATE:20180720
DTEND;VALUE=DATE:20180722
DTSTAMP:20260424T160448
CREATED:20180705T222632Z
LAST-MODIFIED:20180705T222632Z
UID:3470-1532044800-1532217599@teamroping.com.br
SUMMARY:3ª Prova Haras Krefta
DESCRIPTION:
URL:https://teamroping.com.br/evento/3a-prova-haras-krefta/
CATEGORIES:Provas
ATTACH;FMTTYPE=image/jpeg:https://teamroping.com.br/wp-content/uploads/35999223_1852135681513313_997379495910440960_n.jpg
END:VEVENT
BEGIN:VEVENT
DTSTART;VALUE=DATE:20180707
DTEND;VALUE=DATE:20180708
DTSTAMP:20260424T160448
CREATED:20180705T222108Z
LAST-MODIFIED:20180705T222108Z
UID:3466-1530921600-1531007999@teamroping.com.br
SUMMARY:3ª PROVA THREE BROTHERS
DESCRIPTION:
URL:https://teamroping.com.br/evento/3a-prova-three-brothers/
LOCATION:CAMPOS DOS GOYTACAZES\, Campos dos Goytacazes\, Rio de Janeiro\, Brasil
CATEGORIES:Provas
ATTACH;FMTTYPE=image/jpeg:https://teamroping.com.br/wp-content/uploads/35575617_2102355896688453_761754330171703296_n.jpg
END:VEVENT
BEGIN:VEVENT
DTSTART;VALUE=DATE:20180622
DTEND;VALUE=DATE:20180625
DTSTAMP:20260424T160448
CREATED:20171227T144558Z
LAST-MODIFIED:20171227T144558Z
UID:1123-1529625600-1529884799@teamroping.com.br
SUMMARY:CPLD 2ª Etapa
DESCRIPTION:
URL:https://teamroping.com.br/evento/cpld-2a-etapa/
LOCATION:Londrina\, Londrina\, Londrina\, Paraná\, Brasil
CATEGORIES:Provas
END:VEVENT
BEGIN:VEVENT
DTSTART;VALUE=DATE:20180616
DTEND;VALUE=DATE:20180617
DTSTAMP:20260424T160448
CREATED:20180521T103921Z
LAST-MODIFIED:20180521T103954Z
UID:3218-1529107200-1529193599@teamroping.com.br
SUMMARY:HARD ROPER CUP 2018
DESCRIPTION:
URL:https://teamroping.com.br/evento/hard-roper-cup-2018/
LOCATION:ponta grossa\, Ponta Grossa\, Paraná\, Brasil
CATEGORIES:Provas
END:VEVENT
BEGIN:VEVENT
DTSTART;VALUE=DATE:20180608
DTEND;VALUE=DATE:20180609
DTSTAMP:20260424T160448
CREATED:20171110T000143Z
LAST-MODIFIED:20171110T000322Z
UID:990-1528416000-1528502399@teamroping.com.br
SUMMARY:9ª Prova Milaré Ranch
DESCRIPTION:9ª Prova Milaré Ranch \nRegulamento em breve
URL:https://teamroping.com.br/evento/9a-prova-milare-ranch/
LOCATION:Nhandeara\, Nhandeara\, Nhandeara\, São Paulo\, Brasil
END:VEVENT
BEGIN:VEVENT
DTSTART;VALUE=DATE:20180602
DTEND;VALUE=DATE:20180603
DTSTAMP:20260424T160448
CREATED:20180404T115929Z
LAST-MODIFIED:20180404T115929Z
UID:2953-1527897600-1527983999@teamroping.com.br
SUMMARY:Hard Roper Cup
DESCRIPTION:
URL:https://teamroping.com.br/evento/hard-roper-cup/
LOCATION:ponta grossa\, Ponta Grossa\, Paraná\, Brasil
CATEGORIES:Provas
ATTACH;FMTTYPE=image/jpeg:https://teamroping.com.br/wp-content/uploads/WGYY6239.jpg
END:VEVENT
BEGIN:VEVENT
DTSTART;VALUE=DATE:20180601
DTEND;VALUE=DATE:20180603
DTSTAMP:20260424T160448
CREATED:20180309T215421Z
LAST-MODIFIED:20180309T215421Z
UID:1175-1527811200-1527983999@teamroping.com.br
SUMMARY:3ª Prova de Laço do Amor - 100% em Prol Hospital de Câncer de Barretos
DESCRIPTION:3
URL:https://teamroping.com.br/evento/3a-prova-de-laco-do-amor-100-em-prol-hospital-de-cancer-de-barretos/
LOCATION:Nova Andradina\, Nova Andradina\, Mato Grosso do Sul\, Brasil
END:VEVENT
BEGIN:VEVENT
DTSTART;VALUE=DATE:20180525
DTEND;VALUE=DATE:20180528
DTSTAMP:20260424T160448
CREATED:20180216T000641Z
LAST-MODIFIED:20180216T000641Z
UID:1148-1527206400-1527465599@teamroping.com.br
SUMMARY:CPTR 2018 2ª ETAPA
DESCRIPTION:CPTR 2018 2ª ETAPA. Regulamento em Breve
URL:https://teamroping.com.br/evento/cptr-1a-etapa-2/
LOCATION:Balsamo\, Balsamo\, São Paulo\, Brazil
CATEGORIES:Provas
END:VEVENT
BEGIN:VEVENT
DTSTART;VALUE=DATE:20180519
DTEND;VALUE=DATE:20180520
DTSTAMP:20260424T160448
CREATED:20180427T114855Z
LAST-MODIFIED:20180427T114855Z
UID:3078-1526688000-1526774399@teamroping.com.br
SUMMARY:2º ACCTOP Team Roping
DESCRIPTION:
URL:https://teamroping.com.br/evento/2o-acctop-team-roping/
LOCATION:ipaussu\, Rancho São Bento\, Ipaussu\, SP\, 18950000\, Brasil
CATEGORIES:Provas
ATTACH;FMTTYPE=image/jpeg:https://teamroping.com.br/wp-content/uploads/EMKV9039.jpg
END:VEVENT
BEGIN:VEVENT
DTSTART;VALUE=DATE:20180517
DTEND;VALUE=DATE:20180520
DTSTAMP:20260424T160448
CREATED:20180413T170957Z
LAST-MODIFIED:20180413T170957Z
UID:2992-1526515200-1526774399@teamroping.com.br
SUMMARY:Cactus Ropes - Team Roping 2018
DESCRIPTION:
URL:https://teamroping.com.br/evento/cactus-ropes-team-roping-2018/
LOCATION:Trindade\, Trindade\, Trindade\, Goiás\, Brasil
CATEGORIES:Provas
ATTACH;FMTTYPE=image/jpeg:https://teamroping.com.br/wp-content/uploads/30085232_1492600784202554_6213656511428689920_n.jpg
END:VEVENT
END:VCALENDAR