BEGIN:VCALENDAR
VERSION:2.0
PRODID:-//Team Roping Brasil - ECPv6.15.20//NONSGML v1.0//EN
CALSCALE:GREGORIAN
METHOD:PUBLISH
X-ORIGINAL-URL:https://teamroping.com.br
X-WR-CALDESC:Eventos para Team Roping Brasil
REFRESH-INTERVAL;VALUE=DURATION:PT1H
X-Robots-Tag:noindex
X-PUBLISHED-TTL:PT1H
BEGIN:VTIMEZONE
TZID:America/Sao_Paulo
BEGIN:STANDARD
TZOFFSETFROM:-0200
TZOFFSETTO:-0300
TZNAME:-03
DTSTART:20190217T020000
END:STANDARD
END:VTIMEZONE
BEGIN:VEVENT
DTSTART;VALUE=DATE:20210514
DTEND;VALUE=DATE:20210516
DTSTAMP:20260423T175156
CREATED:20210108T161117Z
LAST-MODIFIED:20210123T112327Z
UID:40294-1620950400-1621123199@teamroping.com.br
SUMMARY:4º Aniversário Wesley Jussara
DESCRIPTION:
URL:https://teamroping.com.br/evento/4o-aniversario-wesley-jussara/
CATEGORIES:Provas
ATTACH;FMTTYPE=image/jpeg:https://teamroping.com.br/wp-content/uploads/2021/01/1-1.jpg
END:VEVENT
BEGIN:VEVENT
DTSTART;VALUE=DATE:20210430
DTEND;VALUE=DATE:20210503
DTSTAMP:20260423T175156
CREATED:20200906T104159Z
LAST-MODIFIED:20200906T104159Z
UID:39575-1619740800-1619999999@teamroping.com.br
SUMMARY:21º Prova do Issao
DESCRIPTION:
URL:https://teamroping.com.br/evento/21o-prova-do-issao/
CATEGORIES:Provas
ATTACH;FMTTYPE=image/jpeg:https://teamroping.com.br/wp-content/uploads/2020/09/issao-21.jpg
END:VEVENT
BEGIN:VEVENT
DTSTART;VALUE=DATE:20210326
DTEND;VALUE=DATE:20210329
DTSTAMP:20260423T175156
CREATED:20210225T192436Z
LAST-MODIFIED:20210225T192436Z
UID:40750-1616716800-1616975999@teamroping.com.br
SUMMARY:Jackpot Team Roping 2021
DESCRIPTION:Regente Feijó – SP
URL:https://teamroping.com.br/evento/jackpot-team-roping-2021/
CATEGORIES:Provas
ATTACH;FMTTYPE=image/jpeg:https://teamroping.com.br/wp-content/uploads/2021/02/PROVA.jpg
END:VEVENT
BEGIN:VEVENT
DTSTART;VALUE=DATE:20210319
DTEND;VALUE=DATE:20210321
DTSTAMP:20260423T175156
CREATED:20210221T124404Z
LAST-MODIFIED:20210221T124404Z
UID:40733-1616112000-1616284799@teamroping.com.br
SUMMARY:Mega Team Roping 2021 - Haras Natália
DESCRIPTION:Cuiabá – MT \n19 e 20 Marça 2021
URL:https://teamroping.com.br/evento/mega-team-roping-2021-haras-natalia/
CATEGORIES:Provas
ATTACH;FMTTYPE=image/jpeg:https://teamroping.com.br/wp-content/uploads/2021/02/Sem-Titulo-1-1.jpg
END:VEVENT
BEGIN:VEVENT
DTSTART;VALUE=DATE:20210313
DTEND;VALUE=DATE:20210314
DTSTAMP:20260423T175156
CREATED:20210101T141330Z
LAST-MODIFIED:20210123T110940Z
UID:40187-1615593600-1615679999@teamroping.com.br
SUMMARY:1º Team Roping Rancho Andrade & Araujo
DESCRIPTION:Data : 13 de Março \nLocal : Rancho A2 – Tupacigurara – MG
URL:https://teamroping.com.br/evento/1o-team-roping-rancho-andrade-araujo/
LOCATION:tupaciguara\, Tupaciguara\, MG\, Brasil
CATEGORIES:Provas
ATTACH;FMTTYPE=image/png:https://teamroping.com.br/wp-content/uploads/2021/01/5.png
END:VEVENT
BEGIN:VEVENT
DTSTART;VALUE=DATE:20210312
DTEND;VALUE=DATE:20210315
DTSTAMP:20260423T175156
CREATED:20210216T110726Z
LAST-MODIFIED:20210216T110726Z
UID:40724-1615507200-1615766399@teamroping.com.br
SUMMARY:2ª Etapa CVLD - Rancho Quarto de Milha
DESCRIPTION:Local : Presidente Prudente
URL:https://teamroping.com.br/evento/2a-etapa-cvld-rancho-quarto-de-milha/
CATEGORIES:Provas
ATTACH;FMTTYPE=image/jpeg:https://teamroping.com.br/wp-content/uploads/2021/02/cvld.jpg
END:VEVENT
BEGIN:VEVENT
DTSTART;VALUE=DATE:20210305
DTEND;VALUE=DATE:20210307
DTSTAMP:20260423T175156
CREATED:20201219T143529Z
LAST-MODIFIED:20201219T143529Z
UID:40131-1614902400-1615075199@teamroping.com.br
SUMMARY:7ª Prova TA Quarto de Milha
DESCRIPTION:Nerópolis – GO
URL:https://teamroping.com.br/evento/7a-prova-ta-quarto-de-milha/
CATEGORIES:Provas
ATTACH;FMTTYPE=image/jpeg:https://teamroping.com.br/wp-content/uploads/2020/12/0.jpg
END:VEVENT
BEGIN:VEVENT
DTSTART;VALUE=DATE:20210226
DTEND;VALUE=DATE:20210228
DTSTAMP:20260423T175156
CREATED:20210123T110314Z
LAST-MODIFIED:20210123T110314Z
UID:40336-1614297600-1614470399@teamroping.com.br
SUMMARY:Horse Week Team Roping
DESCRIPTION:Data : 26 e 27 de Fevereiro \ncontato : Barbara Morais (68)99999-0766
URL:https://teamroping.com.br/evento/horse-week-team-roping/
CATEGORIES:Provas
ATTACH;FMTTYPE=image/jpeg:https://teamroping.com.br/wp-content/uploads/2021/01/3-1.jpg
END:VEVENT
BEGIN:VEVENT
DTSTART;VALUE=DATE:20210220
DTEND;VALUE=DATE:20210221
DTSTAMP:20260423T175156
CREATED:20210216T111354Z
LAST-MODIFIED:20210216T111354Z
UID:40727-1613779200-1613865599@teamroping.com.br
SUMMARY:Prova Rancho Due Fratelli
DESCRIPTION:Local : Cruzeiro do Oeste – PR | Rancho Due Fratelli \ndata : 20/02/2021
URL:https://teamroping.com.br/evento/prova-rancho-due-fratelli/
CATEGORIES:Provas
ATTACH;FMTTYPE=image/jpeg:https://teamroping.com.br/wp-content/uploads/2021/02/143814423_436478844217045_8957113410958944887_n.jpg
END:VEVENT
BEGIN:VEVENT
DTSTART;VALUE=DATE:20210219
DTEND;VALUE=DATE:20210222
DTSTAMP:20260423T175156
CREATED:20201219T143840Z
LAST-MODIFIED:20210108T160913Z
UID:40134-1613692800-1613951999@teamroping.com.br
SUMMARY:2º Amigos Team Roping
DESCRIPTION:
URL:https://teamroping.com.br/evento/2o-amigos-team-roping/
CATEGORIES:Provas
ATTACH;FMTTYPE=image/jpeg:https://teamroping.com.br/wp-content/uploads/2020/12/2.jpg
END:VEVENT
BEGIN:VEVENT
DTSTART;VALUE=DATE:20210213
DTEND;VALUE=DATE:20210214
DTSTAMP:20260423T175156
CREATED:20210123T110613Z
LAST-MODIFIED:20210123T110613Z
UID:40339-1613174400-1613260799@teamroping.com.br
SUMMARY:Team Roping Amigos do Juarez
DESCRIPTION:Data: 13 de Fevereiro \nLocal : Rancho Brasil Central – Cachoeira Alta – GO
URL:https://teamroping.com.br/evento/team-roping-amigos-do-juarez/
CATEGORIES:Provas
ATTACH;FMTTYPE=image/jpeg:https://teamroping.com.br/wp-content/uploads/2021/01/4-1.jpg
END:VEVENT
BEGIN:VEVENT
DTSTART;VALUE=DATE:20210205
DTEND;VALUE=DATE:20210207
DTSTAMP:20260423T175156
CREATED:20210123T105853Z
LAST-MODIFIED:20210123T105853Z
UID:40333-1612483200-1612655999@teamroping.com.br
SUMMARY:Rancho Esperança Team Roping Show
DESCRIPTION:Data : 05 e 06 de Fevereiro \nLocal : Caturaí – GO
URL:https://teamroping.com.br/evento/rancho-esperanca-team-roping-show/
CATEGORIES:Provas
ATTACH;FMTTYPE=image/jpeg:https://teamroping.com.br/wp-content/uploads/2021/01/2-1.jpg
END:VEVENT
BEGIN:VEVENT
DTSTART;VALUE=DATE:20210205
DTEND;VALUE=DATE:20210206
DTSTAMP:20260423T175156
CREATED:20210123T105546Z
LAST-MODIFIED:20210123T105546Z
UID:40330-1612483200-1612569599@teamroping.com.br
SUMMARY:ETR | CLTR
DESCRIPTION:Data : 05/02 \nLocal : Haras Sulera – Bálsamo – SP
URL:https://teamroping.com.br/evento/etr-cltr/
CATEGORIES:Provas
ATTACH;FMTTYPE=image/jpeg:https://teamroping.com.br/wp-content/uploads/2021/01/1-2.jpg
END:VEVENT
BEGIN:VEVENT
DTSTART;VALUE=DATE:20210115
DTEND;VALUE=DATE:20210118
DTSTAMP:20260423T175156
CREATED:20201219T143209Z
LAST-MODIFIED:20201219T143209Z
UID:40128-1610668800-1610927999@teamroping.com.br
SUMMARY:20ª Prova do Issao - Edição especial 20 anos
DESCRIPTION:20ª Prova do Issao – Edição especial 20 anos \n15 a 17 de Janeiro de 2021 \nRancho Quarto de Milha \nPresidente Prudente – SP
URL:https://teamroping.com.br/evento/20a-prova-do-issao-edicao-especial-20-anos-2/
CATEGORIES:Provas
ATTACH;FMTTYPE=image/jpeg:https://teamroping.com.br/wp-content/uploads/2020/12/1.jpg
END:VEVENT
BEGIN:VEVENT
DTSTART;VALUE=DATE:20210115
DTEND;VALUE=DATE:20210118
DTSTAMP:20260423T175156
CREATED:20200906T104002Z
LAST-MODIFIED:20200907T213201Z
UID:39572-1610668800-1610927999@teamroping.com.br
SUMMARY:20º Prova do Issao
DESCRIPTION:
URL:https://teamroping.com.br/evento/20o-prova-do-issao/
CATEGORIES:Provas
ATTACH;FMTTYPE=image/jpeg:https://teamroping.com.br/wp-content/uploads/2020/09/MBJC5419.jpg
END:VEVENT
BEGIN:VEVENT
DTSTART;VALUE=DATE:20201106
DTEND;VALUE=DATE:20201107
DTSTAMP:20260423T175156
CREATED:20201001T213438Z
LAST-MODIFIED:20201001T213438Z
UID:39697-1604620800-1604707199@teamroping.com.br
SUMMARY:CPTR
DESCRIPTION:
URL:https://teamroping.com.br/evento/cptr/
CATEGORIES:Provas
ATTACH;FMTTYPE=image/png:https://teamroping.com.br/wp-content/uploads/2020/10/Screenshot_2020-10-01-Team-Roping-Brasil-teamroping-•-Fotos-e-videos-do-Instagram3.png
END:VEVENT
BEGIN:VEVENT
DTSTART;VALUE=DATE:20201031
DTEND;VALUE=DATE:20201102
DTSTAMP:20260423T175156
CREATED:20200929T101835Z
LAST-MODIFIED:20200929T101835Z
UID:39665-1604102400-1604275199@teamroping.com.br
SUMMARY:1º Open Rope Team Roping
DESCRIPTION:Em parceria com a APAE de Lupionópolis-PR \n+ de 70.000\,00 em prêmios / mega estrutura \nsomatórias 8/6\, 4 e incetivo \n  \n31 outubro e 01 de novembro \npista coberta de Lupionópolis-PR \n  \n*seguindo todas as normas de controle do covid-19
URL:https://teamroping.com.br/evento/1o-open-rope-team-roping/
CATEGORIES:Provas
ATTACH;FMTTYPE=image/jpeg:https://teamroping.com.br/wp-content/uploads/2020/09/SMBG5598.jpg
END:VEVENT
BEGIN:VEVENT
DTSTART;VALUE=DATE:20201030
DTEND;VALUE=DATE:20201031
DTSTAMP:20260423T175156
CREATED:20201001T213103Z
LAST-MODIFIED:20201001T213103Z
UID:39694-1604016000-1604102399@teamroping.com.br
SUMMARY:Final Top 15 ETR
DESCRIPTION:Rancho WS \nPereira – SP
URL:https://teamroping.com.br/evento/final-top-15-etr/
CATEGORIES:Provas
ATTACH;FMTTYPE=image/png:https://teamroping.com.br/wp-content/uploads/2020/10/Screenshot_2020-10-01-Team-Roping-Brasil-teamroping-•-Fotos-e-videos-do-Instagram1.png
END:VEVENT
BEGIN:VEVENT
DTSTART;TZID=America/Sao_Paulo:20201024T080000
DTEND;TZID=America/Sao_Paulo:20201025T170000
DTSTAMP:20260423T175156
CREATED:20201016T112318Z
LAST-MODIFIED:20201016T112318Z
UID:39815-1603526400-1603645200@teamroping.com.br
SUMMARY:1º Open Rope Team Roping
DESCRIPTION:Local : Pista coberta de Lupionópolis – PR
URL:https://teamroping.com.br/evento/1o-open-rope-team-roping-2/
CATEGORIES:Provas
ATTACH;FMTTYPE=image/jpeg:https://teamroping.com.br/wp-content/uploads/2020/10/UPVE5929.jpg
END:VEVENT
BEGIN:VEVENT
DTSTART;VALUE=DATE:20201023
DTEND;VALUE=DATE:20201024
DTSTAMP:20260423T175156
CREATED:20201001T212847Z
LAST-MODIFIED:20201001T212847Z
UID:39691-1603411200-1603497599@teamroping.com.br
SUMMARY:9ª Etapa ETR - ultima da temporada
DESCRIPTION:última etapa ETR 2020 durante a prova no Rancho JS \n  \nTrindade – GO
URL:https://teamroping.com.br/evento/9a-etapa-etr-ultima-da-temporada/
CATEGORIES:Provas
ATTACH;FMTTYPE=image/png:https://teamroping.com.br/wp-content/uploads/2020/10/Screenshot_2020-10-01-Team-Roping-Brasil-teamroping-•-Fotos-e-videos-do-Instagram2.png
END:VEVENT
BEGIN:VEVENT
DTSTART;VALUE=DATE:20201016
DTEND;VALUE=DATE:20201018
DTSTAMP:20260423T175156
CREATED:20200930T115811Z
LAST-MODIFIED:20200930T115811Z
UID:39678-1602806400-1602979199@teamroping.com.br
SUMMARY:Taça Mato Grosso de laço em dupla
DESCRIPTION:Rancho Colorado \nSinop-MT
URL:https://teamroping.com.br/evento/taca-mato-grosso-de-laco-em-dupla/
CATEGORIES:Provas
ATTACH;FMTTYPE=image/jpeg:https://teamroping.com.br/wp-content/uploads/2020/09/120506238_166316891806217_1676512700873078117_n.jpg
END:VEVENT
BEGIN:VEVENT
DTSTART;VALUE=DATE:20201010
DTEND;VALUE=DATE:20201012
DTSTAMP:20260423T175156
CREATED:20200909T122317Z
LAST-MODIFIED:20200909T122317Z
UID:39591-1602288000-1602460799@teamroping.com.br
SUMMARY:Team Roping dos Campeões 8ª Edição
DESCRIPTION:ESTA CHEGANDO TEAM ROPING DOS CAMPEÕES 10 E 11 OUTUBRO* \n*DIA 10 SÁBADO SOMAS 4\,5 E 6 \, 1 CAMIONETE\, 1 SAVEIRO\, 1 CARRO MAIS TREILERS \, MOTOS E FIVELAS* \n*DIA 11 DOMINGO VÉSPERA DE FERIADO SOMAS 2 E 3\, 2 SAVEIRO\, 2 CARRO\, TREILERS\, MOTOS E FIVELAS* \n*NÃO FIQUE DE FORA\, VOCÊ É O NOSSO CONVIDADO*
URL:https://teamroping.com.br/evento/team-roping-dos-campeoes-8a-edicao/
CATEGORIES:Provas
ATTACH;FMTTYPE=image/jpeg:https://teamroping.com.br/wp-content/uploads/2020/09/118729725_1016545405453928_8060945321431115433_n.jpg
END:VEVENT
BEGIN:VEVENT
DTSTART;VALUE=DATE:20201010
DTEND;VALUE=DATE:20201012
DTSTAMP:20260423T175156
CREATED:20200909T122022Z
LAST-MODIFIED:20200909T122022Z
UID:39588-1602288000-1602460799@teamroping.com.br
SUMMARY:Challenge of Champion 2020
DESCRIPTION:CHALLENGE OF CHAMPION\, SOMENTE NO TEAM ROPING DOS CAMPEÕES\, A DISPUTA MANO A MANO DAS DUPLAS PREMIADAS DO DIA\, TA CHEGANDO A HORA FALTA POUCO\, AGENDE DIAS 10 E 11 OUTUBRO DOMINGO VÉSPERA DE FERIADO NACIONAL\, VOCÊ É NOSSO CONVIDADO \n  \n  \ninformações\nLeandro Casin\n(17) 98163-7693
URL:https://teamroping.com.br/evento/challenge-of-champion-2020/
CATEGORIES:Provas
ATTACH;FMTTYPE=image/jpeg:https://teamroping.com.br/wp-content/uploads/2020/09/118558149_3137809436317266_3036208046715434308_n.jpg
END:VEVENT
BEGIN:VEVENT
DTSTART;VALUE=DATE:20201009
DTEND;VALUE=DATE:20201012
DTSTAMP:20260423T175156
CREATED:20200111T165012Z
LAST-MODIFIED:20200111T165012Z
UID:32566-1602201600-1602460799@teamroping.com.br
SUMMARY:8ª Edição - Team Roping dos Campeões
DESCRIPTION:
URL:https://teamroping.com.br/evento/8a-edicao-team-roping-dos-campeoes/
CATEGORIES:Provas
ATTACH;FMTTYPE=image/jpeg:https://teamroping.com.br/wp-content/uploads/81776443_856518781448598_8052937977457766519_n.jpg
END:VEVENT
BEGIN:VEVENT
DTSTART;VALUE=DATE:20201003
DTEND;VALUE=DATE:20201004
DTSTAMP:20260423T175156
CREATED:20200929T105146Z
LAST-MODIFIED:20200929T105146Z
UID:39668-1601683200-1601769599@teamroping.com.br
SUMMARY:Circuito HTB - Haras Twin Brothers
DESCRIPTION:Prepare-se para uma MEGA PROVA!! 100 mil reais em prêmios! Team Roping Somatória #7.5. Dia 03 de outubro! marque na sua agenda… \n  \nLOCAL \nHaras Twin Brothers \nSanta Rosa \nCuiabá-MT
URL:https://teamroping.com.br/evento/circuito-htb-haras-twin-brothers/
CATEGORIES:Provas
ATTACH;FMTTYPE=image/jpeg:https://teamroping.com.br/wp-content/uploads/2020/09/120020817_341447967075979_8159280522112036810_n.jpg
END:VEVENT
BEGIN:VEVENT
DTSTART;VALUE=DATE:20200925
DTEND;VALUE=DATE:20200927
DTSTAMP:20260423T175156
CREATED:20200831T213011Z
LAST-MODIFIED:20200831T213011Z
UID:39527-1600992000-1601164799@teamroping.com.br
SUMMARY:Grande Premio Haras Natália 2020
DESCRIPTION:Cuiabá -MT
URL:https://teamroping.com.br/evento/grande-premio-haras-natalia-2020/
CATEGORIES:Provas
ATTACH;FMTTYPE=image/jpeg:https://teamroping.com.br/wp-content/uploads/2020/08/118502863_658929168365332_5141808711743578667_n.jpg
END:VEVENT
BEGIN:VEVENT
DTSTART;VALUE=DATE:20200912
DTEND;VALUE=DATE:20200913
DTSTAMP:20260423T175156
CREATED:20200829T134351Z
LAST-MODIFIED:20200829T134351Z
UID:39522-1599868800-1599955199@teamroping.com.br
SUMMARY:Prova de Laço Rancho Brasil Central
DESCRIPTION:contato: (64) 99965-1118
URL:https://teamroping.com.br/evento/prova-de-laco-rancho-brasil-central/
CATEGORIES:Provas
ATTACH;FMTTYPE=image/jpeg:https://teamroping.com.br/wp-content/uploads/2020/08/KQPL3714.jpg
END:VEVENT
BEGIN:VEVENT
DTSTART;VALUE=DATE:20200912
DTEND;VALUE=DATE:20200913
DTSTAMP:20260423T175156
CREATED:20200827T165613Z
LAST-MODIFIED:20200827T165613Z
UID:39518-1599868800-1599955199@teamroping.com.br
SUMMARY:Bolão Encontro de Amigos
DESCRIPTION:dia 12 de setembro\, no Haras Twin Brothers Santa Rosa!! Laço em Dupla & 3 Tambores.
URL:https://teamroping.com.br/evento/bolao-encontro-de-amigos/
CATEGORIES:Provas
ATTACH;FMTTYPE=image/jpeg:https://teamroping.com.br/wp-content/uploads/2020/08/dsdsds.jpg
END:VEVENT
BEGIN:VEVENT
DTSTART;VALUE=DATE:20200829
DTEND;VALUE=DATE:20200831
DTSTAMP:20260423T175156
CREATED:20200726T160341Z
LAST-MODIFIED:20200726T161022Z
UID:39142-1598659200-1598831999@teamroping.com.br
SUMMARY:Curso de laço em Rosana - SP
DESCRIPTION:Curso de Laço com Rodrigo Teodoro e Thales Araújo \nLocal : Rancho Bonate- Rosana- SP \nData : 29 e 30 de agosto \ncontato : Renato Zacarias (18) 98120-2332
URL:https://teamroping.com.br/evento/curso-de-laco-em-rosana-sp/
CATEGORIES:Cursos
ATTACH;FMTTYPE=image/jpeg:https://teamroping.com.br/wp-content/uploads/2020/07/5.jpg
END:VEVENT
BEGIN:VEVENT
DTSTART;VALUE=DATE:20200822
DTEND;VALUE=DATE:20200824
DTSTAMP:20260423T175156
CREATED:20200726T155853Z
LAST-MODIFIED:20200726T155919Z
UID:39138-1598054400-1598227199@teamroping.com.br
SUMMARY:Curso de laço em Tremembé - SP
DESCRIPTION:Curso de Laço com Rodrigo Teodoro e Daniel Alfaro \nLocal : Rancho Montana- Tremembé – SP \nData : 22 e 23 de agosto \ncontato : Alexandre (35) 99802-4979
URL:https://teamroping.com.br/evento/curso-de-laco-em-tremembe-sp/
CATEGORIES:Cursos
ATTACH;FMTTYPE=image/jpeg:https://teamroping.com.br/wp-content/uploads/2020/07/4-1.jpg
END:VEVENT
END:VCALENDAR