BEGIN:VCALENDAR
VERSION:2.0
PRODID:-//Team Roping Brasil - ECPv6.15.20//NONSGML v1.0//EN
CALSCALE:GREGORIAN
METHOD:PUBLISH
X-WR-CALNAME:Team Roping Brasil
X-ORIGINAL-URL:https://teamroping.com.br
X-WR-CALDESC:Eventos para Team Roping Brasil
REFRESH-INTERVAL;VALUE=DURATION:PT1H
X-Robots-Tag:noindex
X-PUBLISHED-TTL:PT1H
BEGIN:VTIMEZONE
TZID:America/Sao_Paulo
BEGIN:STANDARD
TZOFFSETFROM:-0200
TZOFFSETTO:-0300
TZNAME:-03
DTSTART:20190217T020000
END:STANDARD
END:VTIMEZONE
BEGIN:VEVENT
DTSTART;VALUE=DATE:20201016
DTEND;VALUE=DATE:20201018
DTSTAMP:20260423T210130
CREATED:20200930T115811Z
LAST-MODIFIED:20200930T115811Z
UID:39678-1602806400-1602979199@teamroping.com.br
SUMMARY:Taça Mato Grosso de laço em dupla
DESCRIPTION:Rancho Colorado \nSinop-MT
URL:https://teamroping.com.br/evento/taca-mato-grosso-de-laco-em-dupla/
CATEGORIES:Provas
ATTACH;FMTTYPE=image/jpeg:https://teamroping.com.br/wp-content/uploads/2020/09/120506238_166316891806217_1676512700873078117_n.jpg
END:VEVENT
BEGIN:VEVENT
DTSTART;VALUE=DATE:20201010
DTEND;VALUE=DATE:20201012
DTSTAMP:20260423T210130
CREATED:20200909T122317Z
LAST-MODIFIED:20200909T122317Z
UID:39591-1602288000-1602460799@teamroping.com.br
SUMMARY:Team Roping dos Campeões 8ª Edição
DESCRIPTION:ESTA CHEGANDO TEAM ROPING DOS CAMPEÕES 10 E 11 OUTUBRO* \n*DIA 10 SÁBADO SOMAS 4\,5 E 6 \, 1 CAMIONETE\, 1 SAVEIRO\, 1 CARRO MAIS TREILERS \, MOTOS E FIVELAS* \n*DIA 11 DOMINGO VÉSPERA DE FERIADO SOMAS 2 E 3\, 2 SAVEIRO\, 2 CARRO\, TREILERS\, MOTOS E FIVELAS* \n*NÃO FIQUE DE FORA\, VOCÊ É O NOSSO CONVIDADO*
URL:https://teamroping.com.br/evento/team-roping-dos-campeoes-8a-edicao/
CATEGORIES:Provas
ATTACH;FMTTYPE=image/jpeg:https://teamroping.com.br/wp-content/uploads/2020/09/118729725_1016545405453928_8060945321431115433_n.jpg
END:VEVENT
BEGIN:VEVENT
DTSTART;VALUE=DATE:20201010
DTEND;VALUE=DATE:20201012
DTSTAMP:20260423T210130
CREATED:20200909T122022Z
LAST-MODIFIED:20200909T122022Z
UID:39588-1602288000-1602460799@teamroping.com.br
SUMMARY:Challenge of Champion 2020
DESCRIPTION:CHALLENGE OF CHAMPION\, SOMENTE NO TEAM ROPING DOS CAMPEÕES\, A DISPUTA MANO A MANO DAS DUPLAS PREMIADAS DO DIA\, TA CHEGANDO A HORA FALTA POUCO\, AGENDE DIAS 10 E 11 OUTUBRO DOMINGO VÉSPERA DE FERIADO NACIONAL\, VOCÊ É NOSSO CONVIDADO \n  \n  \ninformações\nLeandro Casin\n(17) 98163-7693
URL:https://teamroping.com.br/evento/challenge-of-champion-2020/
CATEGORIES:Provas
ATTACH;FMTTYPE=image/jpeg:https://teamroping.com.br/wp-content/uploads/2020/09/118558149_3137809436317266_3036208046715434308_n.jpg
END:VEVENT
BEGIN:VEVENT
DTSTART;VALUE=DATE:20201009
DTEND;VALUE=DATE:20201012
DTSTAMP:20260423T210130
CREATED:20200111T165012Z
LAST-MODIFIED:20200111T165012Z
UID:32566-1602201600-1602460799@teamroping.com.br
SUMMARY:8ª Edição - Team Roping dos Campeões
DESCRIPTION:
URL:https://teamroping.com.br/evento/8a-edicao-team-roping-dos-campeoes/
CATEGORIES:Provas
ATTACH;FMTTYPE=image/jpeg:https://teamroping.com.br/wp-content/uploads/81776443_856518781448598_8052937977457766519_n.jpg
END:VEVENT
BEGIN:VEVENT
DTSTART;VALUE=DATE:20201003
DTEND;VALUE=DATE:20201004
DTSTAMP:20260423T210130
CREATED:20200929T105146Z
LAST-MODIFIED:20200929T105146Z
UID:39668-1601683200-1601769599@teamroping.com.br
SUMMARY:Circuito HTB - Haras Twin Brothers
DESCRIPTION:Prepare-se para uma MEGA PROVA!! 100 mil reais em prêmios! Team Roping Somatória #7.5. Dia 03 de outubro! marque na sua agenda… \n  \nLOCAL \nHaras Twin Brothers \nSanta Rosa \nCuiabá-MT
URL:https://teamroping.com.br/evento/circuito-htb-haras-twin-brothers/
CATEGORIES:Provas
ATTACH;FMTTYPE=image/jpeg:https://teamroping.com.br/wp-content/uploads/2020/09/120020817_341447967075979_8159280522112036810_n.jpg
END:VEVENT
BEGIN:VEVENT
DTSTART;VALUE=DATE:20200925
DTEND;VALUE=DATE:20200927
DTSTAMP:20260423T210130
CREATED:20200831T213011Z
LAST-MODIFIED:20200831T213011Z
UID:39527-1600992000-1601164799@teamroping.com.br
SUMMARY:Grande Premio Haras Natália 2020
DESCRIPTION:Cuiabá -MT
URL:https://teamroping.com.br/evento/grande-premio-haras-natalia-2020/
CATEGORIES:Provas
ATTACH;FMTTYPE=image/jpeg:https://teamroping.com.br/wp-content/uploads/2020/08/118502863_658929168365332_5141808711743578667_n.jpg
END:VEVENT
BEGIN:VEVENT
DTSTART;VALUE=DATE:20200912
DTEND;VALUE=DATE:20200913
DTSTAMP:20260423T210130
CREATED:20200829T134351Z
LAST-MODIFIED:20200829T134351Z
UID:39522-1599868800-1599955199@teamroping.com.br
SUMMARY:Prova de Laço Rancho Brasil Central
DESCRIPTION:contato: (64) 99965-1118
URL:https://teamroping.com.br/evento/prova-de-laco-rancho-brasil-central/
CATEGORIES:Provas
ATTACH;FMTTYPE=image/jpeg:https://teamroping.com.br/wp-content/uploads/2020/08/KQPL3714.jpg
END:VEVENT
BEGIN:VEVENT
DTSTART;VALUE=DATE:20200912
DTEND;VALUE=DATE:20200913
DTSTAMP:20260423T210130
CREATED:20200827T165613Z
LAST-MODIFIED:20200827T165613Z
UID:39518-1599868800-1599955199@teamroping.com.br
SUMMARY:Bolão Encontro de Amigos
DESCRIPTION:dia 12 de setembro\, no Haras Twin Brothers Santa Rosa!! Laço em Dupla & 3 Tambores.
URL:https://teamroping.com.br/evento/bolao-encontro-de-amigos/
CATEGORIES:Provas
ATTACH;FMTTYPE=image/jpeg:https://teamroping.com.br/wp-content/uploads/2020/08/dsdsds.jpg
END:VEVENT
BEGIN:VEVENT
DTSTART;VALUE=DATE:20200829
DTEND;VALUE=DATE:20200831
DTSTAMP:20260423T210130
CREATED:20200726T160341Z
LAST-MODIFIED:20200726T161022Z
UID:39142-1598659200-1598831999@teamroping.com.br
SUMMARY:Curso de laço em Rosana - SP
DESCRIPTION:Curso de Laço com Rodrigo Teodoro e Thales Araújo \nLocal : Rancho Bonate- Rosana- SP \nData : 29 e 30 de agosto \ncontato : Renato Zacarias (18) 98120-2332
URL:https://teamroping.com.br/evento/curso-de-laco-em-rosana-sp/
CATEGORIES:Cursos
ATTACH;FMTTYPE=image/jpeg:https://teamroping.com.br/wp-content/uploads/2020/07/5.jpg
END:VEVENT
BEGIN:VEVENT
DTSTART;VALUE=DATE:20200822
DTEND;VALUE=DATE:20200824
DTSTAMP:20260423T210130
CREATED:20200726T155853Z
LAST-MODIFIED:20200726T155919Z
UID:39138-1598054400-1598227199@teamroping.com.br
SUMMARY:Curso de laço em Tremembé - SP
DESCRIPTION:Curso de Laço com Rodrigo Teodoro e Daniel Alfaro \nLocal : Rancho Montana- Tremembé – SP \nData : 22 e 23 de agosto \ncontato : Alexandre (35) 99802-4979
URL:https://teamroping.com.br/evento/curso-de-laco-em-tremembe-sp/
CATEGORIES:Cursos
ATTACH;FMTTYPE=image/jpeg:https://teamroping.com.br/wp-content/uploads/2020/07/4-1.jpg
END:VEVENT
BEGIN:VEVENT
DTSTART;VALUE=DATE:20200821
DTEND;VALUE=DATE:20200823
DTSTAMP:20260423T210130
CREATED:20200107T175309Z
LAST-MODIFIED:20200715T031515Z
UID:32373-1597968000-1598140799@teamroping.com.br
SUMMARY:9º Team Roping Cactus Ropes
DESCRIPTION:
URL:https://teamroping.com.br/evento/9o-team-roping-cactus-ropes/
LOCATION:Trindade\, Trindade\, Trindade\, Goiás\, Brasil
CATEGORIES:Provas
ATTACH;FMTTYPE=image/jpeg:https://teamroping.com.br/wp-content/uploads/79958726_446765389541025_2077218378780835352_n.jpg
END:VEVENT
BEGIN:VEVENT
DTSTART;VALUE=DATE:20200816
DTEND;VALUE=DATE:20200817
DTSTAMP:20260423T210130
CREATED:20200816T125717Z
LAST-MODIFIED:20200816T125732Z
UID:39346-1597536000-1597622399@teamroping.com.br
SUMMARY:Gill\, CO Qualifier - 5 Flat Productions
DESCRIPTION:
URL:https://teamroping.com.br/evento/gill-co-qualifier-5-flat-productions/
CATEGORIES:Provas Americanas
ATTACH;FMTTYPE=image/jpeg:https://teamroping.com.br/wp-content/uploads/2020/08/2.jpg
END:VEVENT
BEGIN:VEVENT
DTSTART;VALUE=DATE:20200816
DTEND;VALUE=DATE:20200817
DTSTAMP:20260423T210130
CREATED:20200816T125054Z
LAST-MODIFIED:20200816T125110Z
UID:39342-1597536000-1597622399@teamroping.com.br
SUMMARY:Athens\, TX Qualifier - Watson Team Roping
DESCRIPTION:
URL:https://teamroping.com.br/evento/athens-tx-qualifier-watson-team-roping/
CATEGORIES:Provas Americanas
ATTACH;FMTTYPE=image/jpeg:https://teamroping.com.br/wp-content/uploads/2020/08/080_TTRJ_0820_LR-copy.8946.jpg
END:VEVENT
BEGIN:VEVENT
DTSTART;VALUE=DATE:20200815
DTEND;VALUE=DATE:20200817
DTSTAMP:20260423T210130
CREATED:20200726T155402Z
LAST-MODIFIED:20200726T155423Z
UID:39134-1597449600-1597622399@teamroping.com.br
SUMMARY:Curso de laço em Rio Verde - GO
DESCRIPTION:Curso de Laço com Rodrigo Teodoro e Daniel Alfaro \nLocal : Clube de laço – Rio Verde – GO \nData : 15 e 16 de agosto \ncontato : Caio Prado (64) 99646-6582 e Thiago Peres (64) 99617-0849
URL:https://teamroping.com.br/evento/curso-de-laco-em-rio-verde-go/
CATEGORIES:Cursos
ATTACH;FMTTYPE=image/jpeg:https://teamroping.com.br/wp-content/uploads/2020/07/3-4.jpg
END:VEVENT
BEGIN:VEVENT
DTSTART;VALUE=DATE:20200808
DTEND;VALUE=DATE:20200810
DTSTAMP:20260423T210130
CREATED:20200726T154820Z
LAST-MODIFIED:20200726T154820Z
UID:39131-1596844800-1597017599@teamroping.com.br
SUMMARY:Curso de laço em Anápolis - GO
DESCRIPTION:Curso de Laço com Rodrigo Teodoro e Everton Pirikito \nLocal : Caiado Ranch em Anápolis – GO \nData : 08 e 09 de agosto \ncontato : Thales Patriota  (62) 99958-4262
URL:https://teamroping.com.br/evento/curso-de-laco-em-anapolis-go/
ATTACH;FMTTYPE=image/jpeg:https://teamroping.com.br/wp-content/uploads/2020/07/2-2.jpg
END:VEVENT
BEGIN:VEVENT
DTSTART;VALUE=DATE:20200801
DTEND;VALUE=DATE:20200803
DTSTAMP:20260423T210130
CREATED:20200726T154025Z
LAST-MODIFIED:20200726T154214Z
UID:39126-1596240000-1596412799@teamroping.com.br
SUMMARY:Curso de Laço em Moreira Sales -PR
DESCRIPTION:  \nCurso de Laço com Rodrigo Teodoro e Everton Pirikito \nLocal : Rancho Bom Sucesso  em Moreira Sales – PR \nData : 01 e 02 de agosto \ncontato : Caio Moreira Sales  (44) 99910-2446 \n 
URL:https://teamroping.com.br/evento/curso-de-laco-em-moreira-sales-pr/
CATEGORIES:Cursos
ATTACH;FMTTYPE=image/jpeg:https://teamroping.com.br/wp-content/uploads/2020/07/1-12.jpg
END:VEVENT
BEGIN:VEVENT
DTSTART;VALUE=DATE:20200801
DTEND;VALUE=DATE:20200802
DTSTAMP:20260423T210130
CREATED:20200312T175211Z
LAST-MODIFIED:20200715T030648Z
UID:34987-1596240000-1596326399@teamroping.com.br
SUMMARY:2º Lupeão Team Roping
DESCRIPTION:
URL:https://teamroping.com.br/evento/2o-lupeao-team-roping/
LOCATION:Lupionópolis\, Lupionópolis\, Lupionópolis\, Paraná\, Brasil
END:VEVENT
BEGIN:VEVENT
DTSTART;VALUE=DATE:20200725
DTEND;VALUE=DATE:20200726
DTSTAMP:20260423T210130
CREATED:20200707T114545Z
LAST-MODIFIED:20200715T030210Z
UID:38325-1595635200-1595721599@teamroping.com.br
SUMMARY:Team Roping Fernando Varoni
DESCRIPTION:
URL:https://teamroping.com.br/evento/team-roping-fernando-varoni/
LOCATION:Tres Lagoas\, Três Lagoas\, Três Lagoas\, Mato Grosso do Sul\, Brasil
CATEGORIES:Provas
ATTACH;FMTTYPE=image/jpeg:https://teamroping.com.br/wp-content/uploads/2020/07/Sem-Título-1-4.jpg
END:VEVENT
BEGIN:VEVENT
DTSTART;VALUE=DATE:20200626
DTEND;VALUE=DATE:20200628
DTSTAMP:20260423T210130
CREATED:20200206T122618Z
LAST-MODIFIED:20200206T122618Z
UID:33610-1593129600-1593302399@teamroping.com.br
SUMMARY:2º Team Roping Show Rancho Esperança
DESCRIPTION:Goiatuba – GO
URL:https://teamroping.com.br/evento/2o-team-roping-show-rancho-esperanca/
CATEGORIES:Provas
ATTACH;FMTTYPE=image/jpeg:https://teamroping.com.br/wp-content/uploads/83283141_1060632524300135_609994217868002835_n.jpg
END:VEVENT
BEGIN:VEVENT
DTSTART;VALUE=DATE:20200613
DTEND;VALUE=DATE:20200614
DTSTAMP:20260423T210130
CREATED:20200304T193652Z
LAST-MODIFIED:20200304T193652Z
UID:34632-1592006400-1592092799@teamroping.com.br
SUMMARY:5º Team Roping Amigos do Matheus
DESCRIPTION:
URL:https://teamroping.com.br/evento/5o-team-roping-amigos-do-matheus/
CATEGORIES:Provas
ATTACH;FMTTYPE=image/jpeg:https://teamroping.com.br/wp-content/uploads/88921877_2658718417691815_4283023552845337619_n.jpg
END:VEVENT
BEGIN:VEVENT
DTSTART;VALUE=DATE:20200606
DTEND;VALUE=DATE:20200607
DTSTAMP:20260423T210130
CREATED:20200210T160328Z
LAST-MODIFIED:20200210T160328Z
UID:33750-1591401600-1591487999@teamroping.com.br
SUMMARY:Bolão amigos do Hélio
DESCRIPTION:
URL:https://teamroping.com.br/evento/bolao-amigos-do-helio/
CATEGORIES:Provas
ATTACH;FMTTYPE=image/jpeg:https://teamroping.com.br/wp-content/uploads/83476448_793106547842013_7256897129540861041_n.jpg
END:VEVENT
BEGIN:VEVENT
DTSTART;VALUE=DATE:20200605
DTEND;VALUE=DATE:20200607
DTSTAMP:20260423T210130
CREATED:20200107T174953Z
LAST-MODIFIED:20200107T174953Z
UID:32370-1591315200-1591487999@teamroping.com.br
SUMMARY:3º Team Roping do Amor
DESCRIPTION:Cachoeira Alta – GO
URL:https://teamroping.com.br/evento/3o-team-roping-do-amor/
CATEGORIES:Provas
ATTACH;FMTTYPE=image/jpeg:https://teamroping.com.br/wp-content/uploads/80300914_487257118660810_6286945510230850779_n.jpg
END:VEVENT
BEGIN:VEVENT
DTSTART;VALUE=DATE:20200523
DTEND;VALUE=DATE:20200524
DTSTAMP:20260423T210130
CREATED:20200121T134109Z
LAST-MODIFIED:20200121T134109Z
UID:32951-1590192000-1590278399@teamroping.com.br
SUMMARY:3ª prova de laço do Bugrão
DESCRIPTION:Cuiabá – MT
URL:https://teamroping.com.br/evento/3a-prova-de-laco-do-bugrao/
CATEGORIES:Provas
ATTACH;FMTTYPE=image/jpeg:https://teamroping.com.br/wp-content/uploads/81625583_194644395050857_4836309518893296549_n.jpg
END:VEVENT
BEGIN:VEVENT
DTSTART;VALUE=DATE:20200501
DTEND;VALUE=DATE:20200504
DTSTAMP:20260423T210130
CREATED:20191203T133517Z
LAST-MODIFIED:20191203T133517Z
UID:30191-1588291200-1588550399@teamroping.com.br
SUMMARY:20ª Prova do Issao - Edição Especial 20 anos
DESCRIPTION:Local \nRanco Quarto de Milha – Presidente Prudente
URL:https://teamroping.com.br/evento/20a-prova-do-issao-edicao-especial-20-anos/
CATEGORIES:Provas
ATTACH;FMTTYPE=image/jpeg:https://teamroping.com.br/wp-content/uploads/75588031_244247076538248_5148932945003199447_n.jpg
END:VEVENT
BEGIN:VEVENT
DTSTART;VALUE=DATE:20200424
DTEND;VALUE=DATE:20200426
DTSTAMP:20260423T210130
CREATED:20200311T172436Z
LAST-MODIFIED:20200311T172436Z
UID:34966-1587686400-1587859199@teamroping.com.br
SUMMARY:Os Rancheiros Team Roping Show
DESCRIPTION:
URL:https://teamroping.com.br/evento/os-rancheiros-team-roping-show/
ATTACH;FMTTYPE=image/jpeg:https://teamroping.com.br/wp-content/uploads/87620108_1510139179171544_8152387694200998670_n.jpg
END:VEVENT
BEGIN:VEVENT
DTSTART;VALUE=DATE:20200417
DTEND;VALUE=DATE:20200419
DTSTAMP:20260423T210130
CREATED:20200106T175910Z
LAST-MODIFIED:20200106T175910Z
UID:32318-1587081600-1587254399@teamroping.com.br
SUMMARY:1º Team Roping Rancho Alto das Rosas
DESCRIPTION:
URL:https://teamroping.com.br/evento/1o-team-roping-rancho-alto-das-rosas/
CATEGORIES:Provas
ATTACH;FMTTYPE=image/jpeg:https://teamroping.com.br/wp-content/uploads/79534201_567219263829506_1628768339550944920_n.jpg
END:VEVENT
BEGIN:VEVENT
DTSTART;VALUE=DATE:20200411
DTEND;VALUE=DATE:20200412
DTSTAMP:20260423T210130
CREATED:20200222T111548Z
LAST-MODIFIED:20200222T111548Z
UID:34194-1586563200-1586649599@teamroping.com.br
SUMMARY:5ª Prova de Laço em prol do Hospital do Câncer de Londrina
DESCRIPTION:
URL:https://teamroping.com.br/evento/5a-prova-de-laco-em-prol-do-hospital-do-cancer-de-londrina/
CATEGORIES:Provas
ATTACH;FMTTYPE=image/jpeg:https://teamroping.com.br/wp-content/uploads/85150803_110660733857769_6238079833892468536_n.jpg
END:VEVENT
BEGIN:VEVENT
DTSTART;VALUE=DATE:20200411
DTEND;VALUE=DATE:20200412
DTSTAMP:20260423T210130
CREATED:20200212T173658Z
LAST-MODIFIED:20200212T173658Z
UID:33840-1586563200-1586649599@teamroping.com.br
SUMMARY:2ª Prova Team Roping - Thiago Lima
DESCRIPTION:Haras Juliano Martins – Paracatu – MG
URL:https://teamroping.com.br/evento/2a-prova-team-roping-thiago-lima/
CATEGORIES:Provas
ATTACH;FMTTYPE=image/jpeg:https://teamroping.com.br/wp-content/uploads/82548609_665438160660688_4552380665007124332_n.jpg
END:VEVENT
BEGIN:VEVENT
DTSTART;VALUE=DATE:20200411
DTEND;VALUE=DATE:20200412
DTSTAMP:20260423T210130
CREATED:20200205T173328Z
LAST-MODIFIED:20200205T173328Z
UID:33566-1586563200-1586649599@teamroping.com.br
SUMMARY:6ª Prova Amigos do Laço
DESCRIPTION:LOCAL: APMA – BRASILANDIA DO SUL
URL:https://teamroping.com.br/evento/6a-prova-amigos-do-laco/
CATEGORIES:Provas
ATTACH;FMTTYPE=image/jpeg:https://teamroping.com.br/wp-content/uploads/83611939_2798868216874203_8859125964206828068_n.jpg
END:VEVENT
BEGIN:VEVENT
DTSTART;VALUE=DATE:20200404
DTEND;VALUE=DATE:20200405
DTSTAMP:20260423T210130
CREATED:20200225T214904Z
LAST-MODIFIED:20200225T214904Z
UID:34301-1585958400-1586044799@teamroping.com.br
SUMMARY:Haras Volta Alegre - 4ª edição
DESCRIPTION:
URL:https://teamroping.com.br/evento/haras-volta-alegre-4a-edicao/
CATEGORIES:Provas
ATTACH;FMTTYPE=image/jpeg:https://teamroping.com.br/wp-content/uploads/LVZB6758.jpg
END:VEVENT
END:VCALENDAR