BEGIN:VCALENDAR
VERSION:2.0
PRODID:-//Team Roping Brasil - ECPv6.15.20//NONSGML v1.0//EN
CALSCALE:GREGORIAN
METHOD:PUBLISH
X-WR-CALNAME:Team Roping Brasil
X-ORIGINAL-URL:https://teamroping.com.br
X-WR-CALDESC:Eventos para Team Roping Brasil
REFRESH-INTERVAL;VALUE=DURATION:PT1H
X-Robots-Tag:noindex
X-PUBLISHED-TTL:PT1H
BEGIN:VTIMEZONE
TZID:America/Sao_Paulo
BEGIN:STANDARD
TZOFFSETFROM:-0200
TZOFFSETTO:-0300
TZNAME:-03
DTSTART:20190217T020000
END:STANDARD
END:VTIMEZONE
BEGIN:VEVENT
DTSTART;VALUE=DATE:20200606
DTEND;VALUE=DATE:20200607
DTSTAMP:20260424T000411
CREATED:20200210T160328Z
LAST-MODIFIED:20200210T160328Z
UID:33750-1591401600-1591487999@teamroping.com.br
SUMMARY:Bolão amigos do Hélio
DESCRIPTION:
URL:https://teamroping.com.br/evento/bolao-amigos-do-helio/
CATEGORIES:Provas
ATTACH;FMTTYPE=image/jpeg:https://teamroping.com.br/wp-content/uploads/83476448_793106547842013_7256897129540861041_n.jpg
END:VEVENT
BEGIN:VEVENT
DTSTART;VALUE=DATE:20200605
DTEND;VALUE=DATE:20200607
DTSTAMP:20260424T000411
CREATED:20200107T174953Z
LAST-MODIFIED:20200107T174953Z
UID:32370-1591315200-1591487999@teamroping.com.br
SUMMARY:3º Team Roping do Amor
DESCRIPTION:Cachoeira Alta – GO
URL:https://teamroping.com.br/evento/3o-team-roping-do-amor/
CATEGORIES:Provas
ATTACH;FMTTYPE=image/jpeg:https://teamroping.com.br/wp-content/uploads/80300914_487257118660810_6286945510230850779_n.jpg
END:VEVENT
BEGIN:VEVENT
DTSTART;VALUE=DATE:20200523
DTEND;VALUE=DATE:20200524
DTSTAMP:20260424T000411
CREATED:20200121T134109Z
LAST-MODIFIED:20200121T134109Z
UID:32951-1590192000-1590278399@teamroping.com.br
SUMMARY:3ª prova de laço do Bugrão
DESCRIPTION:Cuiabá – MT
URL:https://teamroping.com.br/evento/3a-prova-de-laco-do-bugrao/
CATEGORIES:Provas
ATTACH;FMTTYPE=image/jpeg:https://teamroping.com.br/wp-content/uploads/81625583_194644395050857_4836309518893296549_n.jpg
END:VEVENT
BEGIN:VEVENT
DTSTART;VALUE=DATE:20200501
DTEND;VALUE=DATE:20200504
DTSTAMP:20260424T000411
CREATED:20191203T133517Z
LAST-MODIFIED:20191203T133517Z
UID:30191-1588291200-1588550399@teamroping.com.br
SUMMARY:20ª Prova do Issao - Edição Especial 20 anos
DESCRIPTION:Local \nRanco Quarto de Milha – Presidente Prudente
URL:https://teamroping.com.br/evento/20a-prova-do-issao-edicao-especial-20-anos/
CATEGORIES:Provas
ATTACH;FMTTYPE=image/jpeg:https://teamroping.com.br/wp-content/uploads/75588031_244247076538248_5148932945003199447_n.jpg
END:VEVENT
BEGIN:VEVENT
DTSTART;VALUE=DATE:20200424
DTEND;VALUE=DATE:20200426
DTSTAMP:20260424T000411
CREATED:20200311T172436Z
LAST-MODIFIED:20200311T172436Z
UID:34966-1587686400-1587859199@teamroping.com.br
SUMMARY:Os Rancheiros Team Roping Show
DESCRIPTION:
URL:https://teamroping.com.br/evento/os-rancheiros-team-roping-show/
ATTACH;FMTTYPE=image/jpeg:https://teamroping.com.br/wp-content/uploads/87620108_1510139179171544_8152387694200998670_n.jpg
END:VEVENT
BEGIN:VEVENT
DTSTART;VALUE=DATE:20200417
DTEND;VALUE=DATE:20200419
DTSTAMP:20260424T000411
CREATED:20200106T175910Z
LAST-MODIFIED:20200106T175910Z
UID:32318-1587081600-1587254399@teamroping.com.br
SUMMARY:1º Team Roping Rancho Alto das Rosas
DESCRIPTION:
URL:https://teamroping.com.br/evento/1o-team-roping-rancho-alto-das-rosas/
CATEGORIES:Provas
ATTACH;FMTTYPE=image/jpeg:https://teamroping.com.br/wp-content/uploads/79534201_567219263829506_1628768339550944920_n.jpg
END:VEVENT
BEGIN:VEVENT
DTSTART;VALUE=DATE:20200411
DTEND;VALUE=DATE:20200412
DTSTAMP:20260424T000411
CREATED:20200222T111548Z
LAST-MODIFIED:20200222T111548Z
UID:34194-1586563200-1586649599@teamroping.com.br
SUMMARY:5ª Prova de Laço em prol do Hospital do Câncer de Londrina
DESCRIPTION:
URL:https://teamroping.com.br/evento/5a-prova-de-laco-em-prol-do-hospital-do-cancer-de-londrina/
CATEGORIES:Provas
ATTACH;FMTTYPE=image/jpeg:https://teamroping.com.br/wp-content/uploads/85150803_110660733857769_6238079833892468536_n.jpg
END:VEVENT
BEGIN:VEVENT
DTSTART;VALUE=DATE:20200411
DTEND;VALUE=DATE:20200412
DTSTAMP:20260424T000411
CREATED:20200212T173658Z
LAST-MODIFIED:20200212T173658Z
UID:33840-1586563200-1586649599@teamroping.com.br
SUMMARY:2ª Prova Team Roping - Thiago Lima
DESCRIPTION:Haras Juliano Martins – Paracatu – MG
URL:https://teamroping.com.br/evento/2a-prova-team-roping-thiago-lima/
CATEGORIES:Provas
ATTACH;FMTTYPE=image/jpeg:https://teamroping.com.br/wp-content/uploads/82548609_665438160660688_4552380665007124332_n.jpg
END:VEVENT
BEGIN:VEVENT
DTSTART;VALUE=DATE:20200411
DTEND;VALUE=DATE:20200412
DTSTAMP:20260424T000411
CREATED:20200205T173328Z
LAST-MODIFIED:20200205T173328Z
UID:33566-1586563200-1586649599@teamroping.com.br
SUMMARY:6ª Prova Amigos do Laço
DESCRIPTION:LOCAL: APMA – BRASILANDIA DO SUL
URL:https://teamroping.com.br/evento/6a-prova-amigos-do-laco/
CATEGORIES:Provas
ATTACH;FMTTYPE=image/jpeg:https://teamroping.com.br/wp-content/uploads/83611939_2798868216874203_8859125964206828068_n.jpg
END:VEVENT
BEGIN:VEVENT
DTSTART;VALUE=DATE:20200404
DTEND;VALUE=DATE:20200405
DTSTAMP:20260424T000411
CREATED:20200225T214904Z
LAST-MODIFIED:20200225T214904Z
UID:34301-1585958400-1586044799@teamroping.com.br
SUMMARY:Haras Volta Alegre - 4ª edição
DESCRIPTION:
URL:https://teamroping.com.br/evento/haras-volta-alegre-4a-edicao/
CATEGORIES:Provas
ATTACH;FMTTYPE=image/jpeg:https://teamroping.com.br/wp-content/uploads/LVZB6758.jpg
END:VEVENT
BEGIN:VEVENT
DTSTART;VALUE=DATE:20200403
DTEND;VALUE=DATE:20200404
DTSTAMP:20260424T000411
CREATED:20200305T115547Z
LAST-MODIFIED:20200305T115547Z
UID:34661-1585872000-1585958399@teamroping.com.br
SUMMARY:1º Team Roping Rancho Xavier
DESCRIPTION:
URL:https://teamroping.com.br/evento/1o-team-roping-rancho-xavier/
CATEGORIES:Provas
ATTACH;FMTTYPE=image/jpeg:https://teamroping.com.br/wp-content/uploads/88276767_101406174773539_641659226698883931_n-1.jpg
END:VEVENT
BEGIN:VEVENT
DTSTART;VALUE=DATE:20200328
DTEND;VALUE=DATE:20200330
DTSTAMP:20260424T000411
CREATED:20200107T223907Z
LAST-MODIFIED:20200107T223907Z
UID:32390-1585353600-1585526399@teamroping.com.br
SUMMARY:Future Team Roping
DESCRIPTION:Regente Feijó – SP
URL:https://teamroping.com.br/evento/future-team-roping/
CATEGORIES:Provas
ATTACH;FMTTYPE=image/jpeg:https://teamroping.com.br/wp-content/uploads/79836633_122892615869860_1956544345059596457_n.jpg
END:VEVENT
BEGIN:VEVENT
DTSTART;VALUE=DATE:20200321
DTEND;VALUE=DATE:20200322
DTSTAMP:20260424T000411
CREATED:20200305T115134Z
LAST-MODIFIED:20200305T115134Z
UID:34658-1584748800-1584835199@teamroping.com.br
SUMMARY:Copa Rancho Azevedo 2020 - 1ª etapa
DESCRIPTION:
URL:https://teamroping.com.br/evento/copa-rancho-azevedo-2020-1a-etapa/
CATEGORIES:Provas
ATTACH;FMTTYPE=image/jpeg:https://teamroping.com.br/wp-content/uploads/88281138_193978515204400_8269409666500953507_n.jpg
END:VEVENT
BEGIN:VEVENT
DTSTART;VALUE=DATE:20200321
DTEND;VALUE=DATE:20200322
DTSTAMP:20260424T000411
CREATED:20200210T140531Z
LAST-MODIFIED:20200210T140531Z
UID:33745-1584748800-1584835199@teamroping.com.br
SUMMARY:1ª ETAPA COPA DAKOTA TEAM ROPING
DESCRIPTION:
URL:https://teamroping.com.br/evento/1a-etapa-copa-dakota-team-roping/
CATEGORIES:Provas
ATTACH;FMTTYPE=image/jpeg:https://teamroping.com.br/wp-content/uploads/83415271_531593054157066_1815473314201737538_n.jpg
END:VEVENT
BEGIN:VEVENT
DTSTART;VALUE=DATE:20200320
DTEND;VALUE=DATE:20200322
DTSTAMP:20260424T000411
CREATED:20200310T131208Z
LAST-MODIFIED:20200310T131208Z
UID:34912-1584662400-1584835199@teamroping.com.br
SUMMARY:3ª Prova Rancho Conquista
DESCRIPTION:Sinop – MT
URL:https://teamroping.com.br/evento/3a-prova-rancho-conquista/
CATEGORIES:Provas
ATTACH;FMTTYPE=image/jpeg:https://teamroping.com.br/wp-content/uploads/89121086_3335958546421236_5040221854576476913_n-1.jpg
END:VEVENT
BEGIN:VEVENT
DTSTART;VALUE=DATE:20200314
DTEND;VALUE=DATE:20200315
DTSTAMP:20260424T000411
CREATED:20200307T163713Z
LAST-MODIFIED:20200307T163713Z
UID:34759-1584144000-1584230399@teamroping.com.br
SUMMARY:1ª Etapa ALP 2020
DESCRIPTION:
URL:https://teamroping.com.br/evento/1a-etapa-alp-2020/
CATEGORIES:Provas
ATTACH;FMTTYPE=image/jpeg:https://teamroping.com.br/wp-content/uploads/85001560_202725731130810_4087590192938127748_n.jpg
END:VEVENT
BEGIN:VEVENT
DTSTART;VALUE=DATE:20200313
DTEND;VALUE=DATE:20200315
DTSTAMP:20260424T000411
CREATED:20200313T002817Z
LAST-MODIFIED:20200313T002817Z
UID:34989-1584057600-1584230399@teamroping.com.br
SUMMARY:2ª Prova CNTR 2020 - GV Rancho Esperança
DESCRIPTION:
URL:https://teamroping.com.br/evento/2a-prova-cntr-2020-gv-rancho-esperanca/
CATEGORIES:Provas
ATTACH;FMTTYPE=image/jpeg:https://teamroping.com.br/wp-content/uploads/89636561_531102260878329_3211855717621026610_n.jpg
END:VEVENT
BEGIN:VEVENT
DTSTART;VALUE=DATE:20200307
DTEND;VALUE=DATE:20200308
DTSTAMP:20260424T000411
CREATED:20200221T140301Z
LAST-MODIFIED:20200221T140301Z
UID:34165-1583539200-1583625599@teamroping.com.br
SUMMARY:Circuito HTB 2020 - 1ª Etapa
DESCRIPTION:
URL:https://teamroping.com.br/evento/circuito-htb-2020-1a-etapa/
CATEGORIES:Provas
ATTACH;FMTTYPE=image/jpeg:https://teamroping.com.br/wp-content/uploads/87209397_782783742257827_7354589408178314413_n.jpg
END:VEVENT
BEGIN:VEVENT
DTSTART;VALUE=DATE:20200307
DTEND;VALUE=DATE:20200308
DTSTAMP:20260424T000411
CREATED:20200117T140316Z
LAST-MODIFIED:20200117T140316Z
UID:32801-1583539200-1583625599@teamroping.com.br
SUMMARY:6ª Prova de Laço Rancho Cachoeira Alta
DESCRIPTION:
URL:https://teamroping.com.br/evento/6a-prova-de-laco-rancho-cachoeira-alta/
CATEGORIES:Provas
ATTACH;FMTTYPE=image/jpeg:https://teamroping.com.br/wp-content/uploads/HORE5838.jpg
END:VEVENT
BEGIN:VEVENT
DTSTART;VALUE=DATE:20200306
DTEND;VALUE=DATE:20200309
DTSTAMP:20260424T000411
CREATED:20200208T192720Z
LAST-MODIFIED:20200208T192720Z
UID:33693-1583452800-1583711999@teamroping.com.br
SUMMARY:Prova de laço Rancho 2K-2020
DESCRIPTION:
URL:https://teamroping.com.br/evento/prova-de-laco-rancho-2k-2020/
CATEGORIES:Provas
ATTACH;FMTTYPE=image/jpeg:https://teamroping.com.br/wp-content/uploads/82487881_1251848461680215_373048147851951985_n.jpg
END:VEVENT
BEGIN:VEVENT
DTSTART;VALUE=DATE:20200306
DTEND;VALUE=DATE:20200308
DTSTAMP:20260424T000411
CREATED:20200111T165305Z
LAST-MODIFIED:20200203T114336Z
UID:32569-1583452800-1583625599@teamroping.com.br
SUMMARY:6ª Prova TA Quato de Milha
DESCRIPTION:
URL:https://teamroping.com.br/evento/6a-prova-ta-quato-de-milha/
CATEGORIES:Provas
ATTACH;FMTTYPE=image/jpeg:https://teamroping.com.br/wp-content/uploads/81609747_161680981762023_3301511100126163946_n.jpg
END:VEVENT
BEGIN:VEVENT
DTSTART;VALUE=DATE:20200229
DTEND;VALUE=DATE:20200302
DTSTAMP:20260424T000411
CREATED:20200121T110344Z
LAST-MODIFIED:20200121T110344Z
UID:32941-1582934400-1583107199@teamroping.com.br
SUMMARY:Clinica de Laço em Dupla - Aparecida do Taboado
DESCRIPTION:Fernando Varoni & Ricardo Bassetto \nAparecida do Taboado – MS \ncontato : \n(18) 99751-6959\n(67) 99965-2087
URL:https://teamroping.com.br/evento/clinica-de-laco-em-dupla-aparecida-do-taboado/
CATEGORIES:Cursos
ATTACH;FMTTYPE=image/jpeg:https://teamroping.com.br/wp-content/uploads/83633546_1481564158669786_8693675238338203036_n.jpg
END:VEVENT
BEGIN:VEVENT
DTSTART;VALUE=DATE:20200229
DTEND;VALUE=DATE:20200301
DTSTAMP:20260424T000411
CREATED:20200226T004037Z
LAST-MODIFIED:20200226T004037Z
UID:34312-1582934400-1583020799@teamroping.com.br
SUMMARY:Prova de laço Rancho Cardia
DESCRIPTION:dia 29 de Fevereiro neste Sábado Prova de Laço Rancho Cardia na cidade de Marialva – Pr maos informações tratar con Júnior Cardia pelo telefone (44) 99803 – 0007
URL:https://teamroping.com.br/evento/prova-de-laco-rancho-cardia/
CATEGORIES:Provas
ATTACH;FMTTYPE=image/jpeg:https://teamroping.com.br/wp-content/uploads/85228762_512440889690607_85332156275080246_n.jpg
END:VEVENT
BEGIN:VEVENT
DTSTART;VALUE=DATE:20200216
DTEND;VALUE=DATE:20200217
DTSTAMP:20260424T000411
CREATED:20200212T135315Z
LAST-MODIFIED:20200212T135315Z
UID:33833-1581811200-1581897599@teamroping.com.br
SUMMARY:Prova entre Amigos
DESCRIPTION:
URL:https://teamroping.com.br/evento/prova-entre-amigos/
CATEGORIES:Provas
ATTACH;FMTTYPE=image/jpeg:https://teamroping.com.br/wp-content/uploads/Sem-Título-2-12.jpg
END:VEVENT
BEGIN:VEVENT
DTSTART;VALUE=DATE:20200214
DTEND;VALUE=DATE:20200216
DTSTAMP:20260424T000411
CREATED:20200126T131944Z
LAST-MODIFIED:20200126T131944Z
UID:33172-1581638400-1581811199@teamroping.com.br
SUMMARY:CPLD - PRO AM - Rope With The Stars
DESCRIPTION:Você amador e tem um sonho de correr com um profissional\, está é sua oportunidade.  \n  \n14 e 15 de Fevereiro \nLondrina – PR
URL:https://teamroping.com.br/evento/cpld-pro-am-rope-with-the-stars/
CATEGORIES:Provas
ATTACH;FMTTYPE=image/jpeg:https://teamroping.com.br/wp-content/uploads/82232626_475505659724735_845995206781813015_n.jpg
END:VEVENT
BEGIN:VEVENT
DTSTART;VALUE=DATE:20200208
DTEND;VALUE=DATE:20200210
DTSTAMP:20260424T000411
CREATED:20200121T110040Z
LAST-MODIFIED:20200121T110040Z
UID:32938-1581120000-1581292799@teamroping.com.br
SUMMARY:Clinica de Laço em Dupla - Araçatuba - SP
DESCRIPTION:Fernando Varoni & Ricardo Bassetto \nAraçatuba – SP \ncontato : \n(18) 99751-6959\n(67) 99965-2087
URL:https://teamroping.com.br/evento/clinica-de-laco-em-dupla-aracatuba-sp/
CATEGORIES:Cursos
ATTACH;FMTTYPE=image/jpeg:https://teamroping.com.br/wp-content/uploads/79856652_465253857727785_3978786775062893176_n.jpg
END:VEVENT
BEGIN:VEVENT
DTSTART;VALUE=DATE:20200201
DTEND;VALUE=DATE:20200202
DTSTAMP:20260424T000411
CREATED:20200127T212310Z
LAST-MODIFIED:20200127T212327Z
UID:33229-1580515200-1580601599@teamroping.com.br
SUMMARY:3º Team Peba- GO
DESCRIPTION:Team Peba \nMatrinchã – GO
URL:https://teamroping.com.br/evento/3o-team-roping-peba-go/
CATEGORIES:Provas
ATTACH;FMTTYPE=image/png:https://teamroping.com.br/wp-content/uploads/Sem-Título-2-3.png
END:VEVENT
BEGIN:VEVENT
DTSTART;VALUE=DATE:20200201
DTEND;VALUE=DATE:20200202
DTSTAMP:20260424T000411
CREATED:20200122T115710Z
LAST-MODIFIED:20200122T115710Z
UID:33000-1580515200-1580601599@teamroping.com.br
SUMMARY:1ª e 2ª etapas da Prova de Laço em Dupla Haras Faz. São Paulo & Haras Sulera 2020
DESCRIPTION:Bálsamo – SP
URL:https://teamroping.com.br/evento/1a-e-2a-etapas-da-prova-de-laco-em-dupla-haras-faz-sao-paulo-haras-sulera-2020/
CATEGORIES:Provas
ATTACH;FMTTYPE=image/jpeg:https://teamroping.com.br/wp-content/uploads/82304638_742700526238952_6935139072682412038_n.jpg
END:VEVENT
BEGIN:VEVENT
DTSTART;VALUE=DATE:20200201
DTEND;VALUE=DATE:20200202
DTSTAMP:20260424T000411
CREATED:20200104T002944Z
LAST-MODIFIED:20200104T002944Z
UID:32200-1580515200-1580601599@teamroping.com.br
SUMMARY:1º Jackpot Team Roping Anderson e Caio Proença
DESCRIPTION:01/02/2020 \nRancho Fido Dio \nNova Esperança – PR
URL:https://teamroping.com.br/evento/1o-jackpot-team-roping-anderson-e-caio-proenca/
CATEGORIES:Provas
ATTACH;FMTTYPE=image/jpeg:https://teamroping.com.br/wp-content/uploads/Sem-Título-1-12.jpg
END:VEVENT
BEGIN:VEVENT
DTSTART;VALUE=DATE:20200131
DTEND;VALUE=DATE:20200201
DTSTAMP:20260424T000411
CREATED:20191204T191641Z
LAST-MODIFIED:20191204T191641Z
UID:30246-1580428800-1580515199@teamroping.com.br
SUMMARY:Rancho Esperança
DESCRIPTION:
URL:https://teamroping.com.br/evento/rancho-esperanca/
CATEGORIES:Provas
ATTACH;FMTTYPE=image/jpeg:https://teamroping.com.br/wp-content/uploads/74808931_151501099492671_6891909935894443486_n.jpg
END:VEVENT
END:VCALENDAR